BEGIN:VCALENDAR
VERSION:2.0
PRODID:-//ChamberMaster//Event Calendar 2.0//EN
METHOD:PUBLISH
X-PUBLISHED-TTL:P3D
REFRESH-INTERVAL:P3D
CALSCALE:GREGORIAN
BEGIN:VEVENT
DTSTART:20190128T180000Z
DTEND:20190128T190000Z
X-MICROSOFT-CDO-ALLDAYEVENT:FALSE
SUMMARY:Non-Profit Committee Meeting
DESCRIPTION:Non-Profit Committee Meeting
X-ALT-DESC;FMTTYPE=text/html:Non-Profit Committee Meeting
LOCATION:Boerne Chamber of Commerce Conference Room 121 S. Main St.\, Boerne\, TX 78006
UID:e.187.15542
SEQUENCE:3
DTSTAMP:20260419T223009Z
URL:https://business.boerne.org/events/details/non-profit-committee-meeting-15542
END:VEVENT

END:VCALENDAR
