BEGIN:VCALENDAR
VERSION:2.0
PRODID:-//ChamberMaster//Event Calendar 2.0//EN
METHOD:PUBLISH
X-PUBLISHED-TTL:P3D
REFRESH-INTERVAL:P3D
CALSCALE:GREGORIAN
BEGIN:VEVENT
DTSTART:20190827T150000Z
DTEND:20190827T160000Z
X-MICROSOFT-CDO-ALLDAYEVENT:FALSE
SUMMARY:Non Profit Committee | Guest Presenter Tom McGuire
DESCRIPTION:On behalf of The Greater Boerne Chamber of Commerce you are invited to join our Non-Profit Committee. The expected outcome of this committee is to demonstrate a strong\, vital non-profit community that enhances and supports the quality of life and growth of the region.\n\n \n\nSome Essential Committee Tasks will be:\n\n	Advocate for the Non-Profit community\n	Provide training and guidance to non-profits in those topics that will enhance their operation\, support their growth and increase the awareness of the value they provide to the community\n	Lead any studies\, surveys or other sources of key indicators on the performance of the Committee\n\n \n\nOur first presenter will be Tom McGuire\, Grant Manager\, Kronkosky Charitable Foundation on August 27th!
X-ALT-DESC;FMTTYPE=text/html:On behalf of The Greater Boerne Chamber of Commerce you are invited to join our <strong><span style="color:#C00000\;">Non-Profit Committee</span></strong>. The expected outcome of this committee is to demonstrate a strong\, vital non-profit community that enhances and supports the quality of life and growth of the region.<br />\n&nbsp\;<br />\nSome Essential Committee Tasks will be:\n<ol>\n	<li style="margin-left:0in\;">Advocate for the Non-Profit community</li>\n	<li style="margin-left:0in\;">Provide training and guidance to non-profits in those topics that will enhance their operation\, support their growth and increase the awareness of the value they provide to the community</li>\n	<li style="margin-left:0in\;">Lead any studies\, surveys or other sources of key indicators on the performance of the Committee</li>\n</ol>\n&nbsp\;<br />\nOur first presenter will be Tom McGuire\, Grant Manager\, Kronkosky Charitable Foundation on August 27<sup>th</sup>!
LOCATION:August 27th at 10:00AM The Greater Boerne Chamber of Commerce 121 S. Main St. Boerne\, TX 78006 **Please note at this time\, this committee is exclusive to Executive Directors and upper management.**
UID:e.187.16752
SEQUENCE:3
DTSTAMP:20260419T161008Z
URL:https://business.boerne.org/events/details/non-profit-committee-guest-presenter-tom-mcguire-16752
END:VEVENT

END:VCALENDAR
