BEGIN:VCALENDAR
VERSION:2.0
PRODID:-//ChamberMaster//Event Calendar 2.0//EN
METHOD:PUBLISH
X-PUBLISHED-TTL:P3D
REFRESH-INTERVAL:P3D
CALSCALE:GREGORIAN
BEGIN:VEVENT
DTSTART:20250412T170000Z
DTEND:20250413T013000Z
X-MICROSOFT-CDO-ALLDAYEVENT:FALSE
SUMMARY:Nissan Boerne Spring Refresh Event
DESCRIPTION:Mark your calendars for April 12th and head over to Nissan of Boerne for a day filled with fun\, food*\, and fantastic deals! Starting at Noon\, enjoy delicious\, free BBQ sandwiches\, nachos\, & hot dogs from Texas Hill Country BBQ\, exciting prizes and raffles\, and exclusive discounts on our Certified and Pre-Owned Vehicles. Bring the whole family and help us welcome spring in style!   For Better Selection and Better Prices\, Nissan of Boerne is your go-to destination. We can't wait to celebrate with you! \n\n\n\nLeading up to the Spring Refresh Event\, we will be offering great discounts every day of the week:\n\n\n\nMonday\, April 7th  \n\nMaintenance Monday   Free oil changes to anyone with an appointment.\n\n  \n\nTuesday\, April 8th  \n\nTest-Drive Tuesday   When you test-drive a vehicle\, you get a free alignment!   \n\n \n\nWednesday\, April 9th   \n\nWash Wednesday   75 Free Car Washes or $20 oil change & tire rotations \n\n \n\nThursday\, April 10th  \n\nTransmission Thursday - $20 oil change & tire rotations \n\n \n\nFriday\, April 11th\n\nFlash Sale Friday - Exclusive discounts on our Certified and Pre-Owned Vehicles\n\n\n\n\n\n*Food on a first come\, first served basis. Stop by early to enjoy the fun!
X-ALT-DESC;FMTTYPE=text/html:<span style="color:#000000\;">Mark your calendars for&nbsp\;April 12th&nbsp\;and head over to&nbsp\;Nissan of Boerne&nbsp\;for a day filled with fun\, food*\, and fantastic deals! Starting at&nbsp\;Noon\, enjoy&nbsp\;delicious\, free BBQ sandwiches\, nachos\, &amp\; hot dogs&nbsp\;from&nbsp\;Texas Hill Country BBQ\, exciting&nbsp\;prizes and raffles\, and&nbsp\;exclusive discounts&nbsp\;on our&nbsp\;Certified and&nbsp\;Pre-Owned&nbsp\;Vehicles.&nbsp\;Bring the whole family and help us welcome spring in style! <span style="font-family:segoe ui emoji\,sans-serif\;">&#127881\;</span>&nbsp\;For&nbsp\;Better Selection and Better Prices\, Nissan of Boerne is your go-to destination.&nbsp\;We&nbsp\;can&rsquo\;t&nbsp\;wait to celebrate with you!&nbsp\;<br />\n<br />\nLeading up to the Spring Refresh Event\, we will be offering great discounts every day of the week:<br />\n<br />\n<u>Monday\, April 7th&nbsp\;&nbsp\;</u><br />\nMaintenance&nbsp\;Monday&nbsp\;&ndash\; Free oil changes to&nbsp\;anyone with an appointment.<br />\n&nbsp\;&nbsp\;<br />\n<u>Tuesday\, April 8th&nbsp\;&nbsp\;</u><br />\nTest-Drive Tuesday&nbsp\;&ndash\; When you test-drive a vehicle\,&nbsp\;you get a free alignment!&nbsp\;&nbsp\;&nbsp\;<br />\n&nbsp\;<br />\n<u>Wednesday\, April 9th&nbsp\;&nbsp\;&nbsp\;</u><br />\nWash Wednesday&nbsp\;&ndash\;&nbsp\;75 Free Car Washes or $20 oil change &amp\; tire rotations&nbsp\;<br />\n&nbsp\;<br />\n<u>Thursday\, April 10th&nbsp\;&nbsp\;</u><br />\nTransmission Thursday -&nbsp\;$20 oil change &amp\; tire rotations&nbsp\;<br />\n&nbsp\;<br />\n<u>Friday\,&nbsp\;April 11th</u><br />\nFlash Sale Friday - Exclusive discounts on our Certified and Pre-Owned Vehicles<br />\n<br />\n<br />\n*Food on a first come\, first served basis. Stop by early to enjoy the fun!&nbsp\;</span>
LOCATION:Nissan Boerne 31805 IH 10 W. Boerne\, TX 78006
UID:e.187.29264
SEQUENCE:3
DTSTAMP:20260419T124915Z
URL:https://business.boerne.org/events/details/nissan-boerne-spring-refresh-event-29264
END:VEVENT

END:VCALENDAR
