BEGIN:VCALENDAR
VERSION:2.0
PRODID:-//ChamberMaster//Event Calendar 2.0//EN
METHOD:PUBLISH
X-PUBLISHED-TTL:P3D
REFRESH-INTERVAL:P3D
CALSCALE:GREGORIAN
BEGIN:VEVENT
DTSTART:20190907T150000Z
DTEND:20190907T230000Z
X-MICROSOFT-CDO-ALLDAYEVENT:FALSE
SUMMARY:New & Luxury Auto Show - Presented by Mark Motors
DESCRIPTION:The Greater Boerne Chamber of Commerce proudly presents our 2nd Annual New & Luxury Auto Show on September 7 at Main Plaza in Boerne.\n\n\n\nSome of this year's most anticipated car models will be on display\, full of cutting-edge technology and style. This is the perfect opportunity to compare brands and models in the perfect setting - Downtown Boerne. Whether you are a car enthusiast\, first-time car buyer or simply just looking for something to do with the family over the weekend\, there is definitely something for everyone.\n\n\n\nCheck out a highlight video of our inaugural show in 2018!
X-ALT-DESC;FMTTYPE=text/html:The Greater Boerne Chamber of Commerce proudly presents our 2nd Annual New &amp\; Luxury Auto Show on September 7 at Main Plaza in Boerne.<br />\n<br />\nSome of this year&#39\;s most anticipated car models will be on display\, full of cutting-edge technology and style. This is the perfect opportunity to compare brands and models in the perfect setting - Downtown Boerne. Whether you are a car enthusiast\, first-time car buyer or simply just looking for something to do with the family over the weekend\, there is definitely something for everyone.<br />\n<br />\nCheck out a highlight video of our inaugural show in 2018!<br />\n<br />\n<iframe allow="accelerometer\; autoplay\; encrypted-media\; gyroscope\; picture-in-picture" allowfullscreen="" frameborder="0" height="315" src="https://www.youtube.com/embed/0FjZGVa1N3U" width="560"></iframe>
LOCATION:Boerne's Main Plaza 100 N. Main St. Boerne\, TX 78006
UID:e.187.15324
SEQUENCE:3
DTSTAMP:20260419T175151Z
URL:https://business.boerne.org/events/details/new-luxury-auto-show-presented-by-mark-motors-15324
END:VEVENT

END:VCALENDAR
