BEGIN:VCALENDAR
VERSION:2.0
PRODID:-//ChamberMaster//Event Calendar 2.0//EN
METHOD:PUBLISH
X-PUBLISHED-TTL:P3D
REFRESH-INTERVAL:P3D
CALSCALE:GREGORIAN
BEGIN:VEVENT
DTSTART:20190128T200000Z
DTEND:20190128T220000Z
X-MICROSOFT-CDO-ALLDAYEVENT:FALSE
SUMMARY:New Board Director Orientation
DESCRIPTION:New Board Directors Orientation
X-ALT-DESC;FMTTYPE=text/html:New Board Directors Orientation
LOCATION:Boerne Chamber of Commerce conference room 121 S. Main St.\, Boerne\, TX 78006
UID:e.187.15891
SEQUENCE:3
DTSTAMP:20260419T210046Z
URL:https://business.boerne.org/events/details/new-board-director-orientation-15891
END:VEVENT

END:VCALENDAR
