BEGIN:VCALENDAR
VERSION:2.0
PRODID:-//ChamberMaster//Event Calendar 2.0//EN
METHOD:PUBLISH
X-PUBLISHED-TTL:P3D
REFRESH-INTERVAL:P3D
CALSCALE:GREGORIAN
BEGIN:VEVENT
DTSTART;VALUE=DATE:20181206
DTEND;VALUE=DATE:20181207
TRANSP:TRANSPARENT
X-MICROSOFT-CDO-ALLDAYEVENT:TRUE
SUMMARY:Networking Breakfast - Date Hold
DESCRIPTION:Date Reserved - Information TBA
X-ALT-DESC;FMTTYPE=text/html:Date Reserved - Information TBA
LOCATION:Date Reserved - Information TBA
UID:e.187.12050
SEQUENCE:3
DTSTAMP:20260419T234754Z
URL:https://business.boerne.org/events/details/networking-breakfast-date-hold-12050
END:VEVENT

END:VCALENDAR
