BEGIN:VCALENDAR
VERSION:2.0
PRODID:-//ChamberMaster//Event Calendar 2.0//EN
METHOD:PUBLISH
X-PUBLISHED-TTL:P3D
REFRESH-INTERVAL:P3D
CALSCALE:GREGORIAN
BEGIN:VEVENT
DTSTART:20190228T000000Z
DTEND:20190228T020000Z
X-MICROSOFT-CDO-ALLDAYEVENT:FALSE
SUMMARY:My Urgent Care Provider Meet & Greet Open House
DESCRIPTION:My Urgent Care is pleased to host an open house for the medical community in our area. Please join us for a casual meet and greet to network with other providers in the Boerne area. Drinks and appetizers will be provided.\n\n\n\nRSVP to dawn@myemergencyroom.com or 830-331-2391.
X-ALT-DESC;FMTTYPE=text/html:My Urgent Care is pleased to host an open house for the medical community in our area. Please join us for a casual meet and greet to network with other providers in the Boerne area. Drinks and appetizers will be provided.<br />\n<br />\nRSVP to <a href="mailto:dawn@myemergencyroom.com">dawn@myemergencyroom.com</a> or 830-331-2391.
LOCATION:My Urgent Care 910 River Rd.\, Ste. 101 Boerne\, TX 78006
UID:e.187.16112
SEQUENCE:3
DTSTAMP:20260419T205758Z
URL:https://business.boerne.org/events/details/my-urgent-care-provider-meet-greet-open-house-16112
END:VEVENT

END:VCALENDAR
