BEGIN:VCALENDAR
VERSION:2.0
PRODID:-//ChamberMaster//Event Calendar 2.0//EN
METHOD:PUBLISH
X-PUBLISHED-TTL:P3D
REFRESH-INTERVAL:P3D
CALSCALE:GREGORIAN
BEGIN:VEVENT
DTSTART:20190809T150000Z
DTEND:20190809T160000Z
X-MICROSOFT-CDO-ALLDAYEVENT:FALSE
SUMMARY:MOVED DATE - Veteran & Business Committee Meeting
DESCRIPTION:Moved meeting to Friday\, August 23rd
X-ALT-DESC;FMTTYPE=text/html:Moved meeting to Friday\, August 23rd
LOCATION:
UID:e.187.16589
SEQUENCE:3
DTSTAMP:20260419T161230Z
URL:https://business.boerne.org/events/details/moved-date-veteran-business-committee-meeting-16589
END:VEVENT

END:VCALENDAR
