BEGIN:VCALENDAR
VERSION:2.0
PRODID:-//ChamberMaster//Event Calendar 2.0//EN
METHOD:PUBLISH
X-PUBLISHED-TTL:P3D
REFRESH-INTERVAL:P3D
CALSCALE:GREGORIAN
BEGIN:VEVENT
DTSTART:20240922T003000Z
DTEND:20240922T033000Z
X-MICROSOFT-CDO-ALLDAYEVENT:FALSE
SUMMARY:Moondance Outdoor Concert Series
DESCRIPTION:Moondance is a longstanding and beloved tradition at The Cibolo. What began as a group of friends coming together to play music\, dance\, and tell stories has become an annual family-friendly outdoor concert series where visitors from all over gather as a community and support local musicians. This summer\, we're excited to host new local bands and food trucks one Saturday a month for a marvelous night of live music\, dancing\, stories and celebration at The Cibolo under the oaks and stars. \n\nConcert Schedule:\n\nMay 18\, 2024: Just 4 Fun Band\n\nJune 22\, 2024: Trey Gonzalez\n\nJuly 20\, 2024: Randy Carson Band\n\nAugust 17\, 2024: Cactus Country\n\nSeptember 21\, 2024: Matthew Parker
X-ALT-DESC;FMTTYPE=text/html:<p><span style="color:rgb(0\, 0\, 0)"><span style="color:rgb(51\, 51\, 51)\; font-family:arial\,sans-serif\; font-size:9pt">Moondance is a longstanding and beloved tradition at The Cibolo. What began as a group of friends coming together to play music\, dance\, and tell stories has become an annual family-friendly outdoor concert series where visitors from all over gather as a community and support local musicians. This summer\, we&rsquo\;re excited to host new local bands and food trucks one Saturday a month for a marvelous night of live music\, dancing\, stories and celebration at The Cibolo under the oaks and stars.&nbsp\;</span></span></p>\n\n<p><span style="color:rgb(0\, 0\, 0)"><strong>Concert Schedule:</strong></span></p>\n\n<p><span style="color:rgb(0\, 0\, 0)"><span style="color:rgb(51\, 51\, 51)\; font-family:arial\,sans-serif\; font-size:9pt">May 18\, 2024: Just 4 Fun Band</span></span></p>\n\n<p><span style="color:rgb(0\, 0\, 0)"><span style="color:rgb(51\, 51\, 51)\; font-family:arial\,sans-serif\; font-size:9pt">June 22\, 2024: Trey Gonzalez</span></span></p>\n\n<p><span style="color:rgb(0\, 0\, 0)"><span style="color:rgb(51\, 51\, 51)\; font-family:arial\,sans-serif\; font-size:9pt">July 20\, 2024: Randy Carson Band</span></span></p>\n\n<p><span style="color:rgb(0\, 0\, 0)"><span style="color:rgb(51\, 51\, 51)\; font-family:arial\,sans-serif\; font-size:9pt">August 17\, 2024: Cactus Country</span></span></p>\n\n<p><span style="color:rgb(0\, 0\, 0)"><span style="color:rgb(51\, 51\, 51)\; font-family:arial\,sans-serif\; font-size:9pt">September 21\, 2024: Matthew Parker</span></span></p>\n
LOCATION:Cibolo Nature Center
UID:e.187.24729
SEQUENCE:3
DTSTAMP:20260419T181416Z
URL:https://business.boerne.org/events/details/moondance-outdoor-concert-series-09-21-2024-24729
END:VEVENT

END:VCALENDAR
