BEGIN:VCALENDAR
VERSION:2.0
PRODID:-//ChamberMaster//Event Calendar 2.0//EN
METHOD:PUBLISH
X-PUBLISHED-TTL:P3D
REFRESH-INTERVAL:P3D
CALSCALE:GREGORIAN
BEGIN:VEVENT
DTSTART:20240918T173000Z
DTEND:20240918T183000Z
X-MICROSOFT-CDO-ALLDAYEVENT:FALSE
SUMMARY:Mooncake Festival Elegant Tea Party
DESCRIPTION:Join Yaping Zhang Chinese Culture and Event Coordinator on September 18th at 12:30pm for this elegant mooncake tea party. Yaping shares rich experience of Asian culture\, food and art with our community. Hope you can join her for some music\, tea and mooncake. Email yaping@yapingzhang.com or call 210-636-9202 to RSVP!
X-ALT-DESC;FMTTYPE=text/html:<span style="color: rgb(8\, 8\, 9)\; font-family: &quot\;Segoe UI Historic&quot\;\, &quot\;Segoe UI&quot\;\, Helvetica\, Arial\, sans-serif\; font-size: 15px\; white-space-collapse: preserve\; background-color: rgb(255\, 255\, 255)\;">Join </span><span class="html-span xdj266r x11i5rnm xat24cr x1mh8g0r xexx8yu x4uap5 x18d9i69 xkhd6sd x1hl2dhg x16tdsg8 x1vvkbs" style="margin: 0px\; overflow-wrap: break-word\; padding: 0px\; font-family: &quot\;Segoe UI Historic&quot\;\, &quot\;Segoe UI&quot\;\, Helvetica\, Arial\, sans-serif\; color: rgb(8\, 8\, 9)\; font-size: 15px\; white-space-collapse: preserve\; background-color: rgb(255\, 255\, 255)\;"><a attributionsrc="/privacy_sandbox/comet/register/source/?xt=AZU72NsaSAMZ-Qtd9_EgYY2XZaA3HlhgZMTxX8otYkWzbMLj0qd1ZN2VlIHs1d3A5BYtgK2DAW28Fwa90YERyjxbsY4R9kKsJB1whhIhaMrChsgov2OPgHvDF5T_VzMjRmROyT--ZqMXF7UQh29AWFkwF1K-vHMTQVWvpM3wXUasGyH-rXoOOIRbJJuyoO2cDi7BcrHcUBtAku_UI2Hxw8iqWZnPniwE6eqfLJLG1JlDhyxWnrg1nekmGekpJ3OP3UsP2oAmqUfKrU9w-c5SsWt4tkEft284WZDjUDrzc3U_BIh0qB6efFmduTqtWRTae8xsGJqoVEpevwUrNCuv_dundGfu1cqLnKC_asd6CX2bLbmDrEPmafxTSomESyGDqIR6ywLsioR5OFhyz7OWuWQwuvg_NQHMPRvReTsIwltgYgYQnZ67FoQJqOGAuY-Uzt4sMJ_WEmg4VPqHy8CMQbOLGl767JGfxDUXm0Mf8BO4Lv0Bmf9GZ7bYgPiMd9g_6lx9mbbSWOknFatKNopr_ZoWSz02ip30rQmFiLb4sx03s2IE_SPqJruZVwd7Jq50PXBFheYMPyWQytpguCl-W3zcScdCA9WF-lu58-Iz5CDKjXi_xFNvDrCmTzKBnJgBxG1vdgHY3-bLACV4T5q1sLB0XbYB6ZVcfBrkSr85wlf_bJRkwaYOVV6Dd0f-JDBMYDq1nvjKSJeyZ4urdE3zGXo0-vcoa63r-YuytPIeVjaGFE3kzmHU6GatgaE-3IQgP5W7GlWNMNGYrVdgbr3utw2dIc6ewbTeGBwkrfKJht1vrxr01jykKN9mxdw83DM-ELh8aHo-UihLdExz9fOzmeRlRcmcOLM17q0I-jcrxwzaEorJQ47r2f7wnTzkB2eC0eNH-LsJBFRvJWHpr4Uhma94ihhf9wfnMqMTyMwrZsKXAvuH4A57v_TAcDBM8PjwaYkETB6KZetaLntq2fZRUAPBNKMm4t3TxHipUZc32KM3w5ekkQGV01Dd9Uzf8BmbvDmGgcOtgAOoxvuTmktTadv42GixgNEtsUBKG7OdzrGAQVM_j5l2UfKqWErUz1ZexA07IdRdZTnfsd2-yr074M3CjKXZhlc_UG5UmkAzVarmOOpctHHbsi0LRCOrbK_WIdiWSO5QfVym7iIWJvE4ZbHI2W7kXBIg9p-xFzcnta8pfZbhHqEM8EZwpnkoIeGng6lKff8Q_eArh8bUDgVOq1jdQ67dnjUCTCj7WU9ji-NfoeTY-KfW-AfX5tZNiB8ZHNtsmm-ysi5OUJmu1ssEbbatl6aYzKrsKX4TkN36rUfKoriYr4Sb8LjIXCKOrncrklHn-lIZf12bC-KeGnJ7IgMJP69BMLjDRAXbgATPXfUTTYl2weDdI1ZNRQ-wpa_KbnXR-Rr4K1OEcedjcsWUqj6a" class="x1i10hfl xjbqb8w x1ejq31n xd10rxx x1sy0etr x17r0tee x972fbf xcfux6l x1qhh985 xm0m39n x9f619 x1ypdohk xt0psk2 xe8uvvx xdj266r x11i5rnm xat24cr x1mh8g0r xexx8yu x4uap5 x18d9i69 xkhd6sd x16tdsg8 x1hl2dhg xggy1nq x1a2a7pz x1sur9pj xkrqix3 x1fey0fg xo1l8bm" href="https://www.facebook.com/yapingzhangllc?__cft__[0]=AZUFWwcoCsj1BCnrWpzN8vbEfsHCgHYLQT2RpaK6xgdzK9mRVidFMtu6Cd0UuUiEy9hj5gRsJPck-hRMlwL8DiA8W2QthZz0xw94GejFrmN6dojDvav3M_CTd-zKQJgMu7eVA2nKH-wrnXTzEHjHNiU-a6lLi6aoJ64B0YM1p4mj47bSjuAi9w4HfcIMRkdu78M&amp\;__tn__=-]K-R" role="link" style="cursor: pointer\; text-decoration-line: none\; list-style: none\; margin: 0px\; text-align: inherit\; border-style: none\; padding: 0px\; box-sizing: border-box\; border-width: 0px\; outline: none\; -webkit-tap-highlight-color: transparent\; touch-action: manipulation\; background-color: transparent\; display: inline\; font-family: inherit\;" tabindex="0"><span class="xt0psk2" style="display: inline\; font-family: inherit\;">Yaping Zhang Chinese Culture and Event Coordinator</span></a></span><span style="color: rgb(8\, 8\, 9)\; font-family: &quot\;Segoe UI Historic&quot\;\, &quot\;Segoe UI&quot\;\, Helvetica\, Arial\, sans-serif\; font-size: 15px\; white-space-collapse: preserve\; background-color: rgb(255\, 255\, 255)\;"> on September 18th at 12:30pm for this elegant mooncake tea party. Yaping shares rich experience of Asian culture\, food and art with our community. Hope you can join her for some music\, tea and mooncake. Email yaping@yapingzhang.com or call 210-636-9202 to RSVP! </span>
LOCATION:Greater Boerne Chamber of Commerce 121 S. Main St. Boerne\, TX 78006
UID:e.187.28648
SEQUENCE:3
DTSTAMP:20260419T181152Z
URL:https://business.boerne.org/events/details/mooncake-festival-elegant-tea-party-28648
END:VEVENT

END:VCALENDAR
