BEGIN:VCALENDAR
VERSION:2.0
PRODID:-//ChamberMaster//Event Calendar 2.0//EN
METHOD:PUBLISH
X-PUBLISHED-TTL:P3D
REFRESH-INTERVAL:P3D
CALSCALE:GREGORIAN
BEGIN:VEVENT
DTSTART:20190129T160000Z
DTEND:20190129T170000Z
X-MICROSOFT-CDO-ALLDAYEVENT:FALSE
SUMMARY:Military Business Committee Meeting
DESCRIPTION:The Military Business Committee focuses on building ties between the business community and local military organizations. Our mission is to promote Boerne and Hill Country Region by engaging the greater Boerne community and especially its business community to demonstrably celebrate\, support\, maintain\, and grow the military presence in Kendall County and surrounding areas.
X-ALT-DESC;FMTTYPE=text/html:The Military Business Committee focuses on building ties between the business community and local military organizations. Our mission is to promote Boerne and Hill Country Region by engaging the greater Boerne community and especially its business community to demonstrably celebrate\, support\, maintain\, and grow the military presence in Kendall County and surrounding areas.
LOCATION:Boerne Chamber of Commerce
UID:e.187.15896
SEQUENCE:3
DTSTAMP:20260419T210552Z
URL:https://business.boerne.org/events/details/military-business-committee-meeting-15896
END:VEVENT

END:VCALENDAR
