BEGIN:VCALENDAR
VERSION:2.0
PRODID:-//ChamberMaster//Event Calendar 2.0//EN
METHOD:PUBLISH
X-PUBLISHED-TTL:P3D
REFRESH-INTERVAL:P3D
CALSCALE:GREGORIAN
BEGIN:VEVENT
DTSTART:20250607T180000Z
DTEND:20250607T193000Z
X-MICROSOFT-CDO-ALLDAYEVENT:FALSE
SUMMARY:Microgreens & Sprouts Workshop
DESCRIPTION:Dive into the world of nutrient-dense\, homegrown greens with a Microgreens & Sprouts Workshop! Whether you're a seasoned gardener or a complete beginner\, this hands-on workshop will teach you how to grow and harvest both microgreens and sprouts two of the easiest and most nutritious additions to your diet.\n\nWhat You'll Learn:\n\n\n	Introduction to Microgreens & Sprouts: Understand the key differences between microgreens and sprouts.\n	Choosing the Right Varieties: Discover the best varieties of microgreens (like pea shoots\, sunflower\, and radish) and sprouts (such as alfalfa\, broccoli\, and mung beans) to grow at home.\n	Growing Sprouts: Learn how to grow sprouts in just a few days using simple jars or sprouting trays.\n	Growing Microgreens: Explore the process of growing microgreens from seed to harvest.\n	Care and Maintenance: Learn the best practices for keeping your microgreens and sprouts healthy.\n	Harvesting & Storing: Understand when and how to harvest both microgreens and sprouts for maximum flavor and nutrition.\n	Creative Uses: Get inspired by creative ways to use your freshly grown microgreens and sprouts! \n\n\nBy the end of this workshop\, you'll be fully equipped to grow your own microgreens and sprouts at home. With minimal space and time\, you'll have access to fresh\, home-grown greens year-round\, packed with flavor and nutrients!\n\nEach participant will be sent home with trays\, microgreen seeds\, sprouting seeds\, and more.
X-ALT-DESC;FMTTYPE=text/html:<p>Dive into the world of nutrient-dense\, homegrown greens with a Microgreens &amp\; Sprouts Workshop! Whether you&rsquo\;re a seasoned gardener or a complete beginner\, this hands-on workshop will teach you how to grow and harvest both microgreens and sprouts&mdash\;two of the easiest and most nutritious additions to your diet.</p>\n\n<p><strong>What You&#39\;ll Learn:</strong></p>\n\n<ul>\n	<li><strong>Introduction to Microgreens &amp\; Sprouts:</strong>&nbsp\;Understand the key differences between microgreens and sprouts.</li>\n	<li><strong>Choosing the Right Varieties:</strong>&nbsp\;Discover the best varieties of microgreens (like pea shoots\, sunflower\, and radish) and sprouts (such as alfalfa\, broccoli\, and mung beans) to grow at home.</li>\n	<li><strong>Growing Sprouts:</strong>&nbsp\;Learn how to grow sprouts in just a few days using simple jars or sprouting trays.</li>\n	<li><strong>Growing Microgreens:</strong>&nbsp\;Explore the process of growing microgreens from seed to harvest.</li>\n	<li><strong>Care and Maintenance:</strong>&nbsp\;Learn the best practices for keeping your microgreens and sprouts healthy.</li>\n	<li><strong>Harvesting &amp\; Storing:</strong>&nbsp\;Understand when and how to harvest both microgreens and sprouts for maximum flavor and nutrition.</li>\n	<li><strong>Creative Uses:</strong>&nbsp\;Get inspired by creative ways to use your freshly grown microgreens and sprouts!&nbsp\;</li>\n</ul>\n\n<p>By the end of this workshop\, you&rsquo\;ll be fully equipped to grow your own microgreens and sprouts at home. With minimal space and time\, you&#39\;ll have access to fresh\, home-grown greens year-round\, packed with flavor and nutrients!</p>\n\n<p><strong>Each participant will be sent home with trays\, microgreen seeds\, sprouting seeds\, and&nbsp\;more.</strong></p>\n
LOCATION:Teaching Garden at Herff Farm 33 Herff Rd Boerne\, Texas 78006 United States
UID:e.187.29386
SEQUENCE:3
DTSTAMP:20260419T174746Z
URL:https://business.boerne.org/events/details/microgreens-sprouts-workshop-29386
END:VEVENT

END:VCALENDAR
