BEGIN:VCALENDAR
VERSION:2.0
PRODID:-//ChamberMaster//Event Calendar 2.0//EN
METHOD:PUBLISH
X-PUBLISHED-TTL:P3D
REFRESH-INTERVAL:P3D
CALSCALE:GREGORIAN
BEGIN:VEVENT
DTSTART:20250407T230000Z
DTEND:20250408T010000Z
X-MICROSOFT-CDO-ALLDAYEVENT:FALSE
SUMMARY:Men's Night with Pastor Manny Arango
DESCRIPTION:MEN'S NIGHT 2025   MADE FOR MORE\n\nYou were MADE FOR MORE.\n\nJoin us on Monday\, April 7\, at 6:00 PM for an unforgettable Men's Night at Cross Mountain Church! This isn't just another event it's a call to step into the life God created you for.\n\nWHAT TO EXPECT:\n\nPowerful Teaching   Guest speaker Manny Arango will challenge and inspire you to live with purpose.\n\nIncredible Worship   Led by Clinton Allen and the CMC Worship Team to stir your spirit.\n\nFood Trucks   Enjoy a great meal included with your ticket.\n\nAxe Throwing & Games   Because sometimes\, you just need to throw sharp objects with the guys.\n\nBrotherhood & Fellowship   A night to connect\, be encouraged\, and step into all that God has for you.\n\nCOST: $30 per person (includes food).\n\nDon't settle for less than God's best you were MADE FOR MORE. Register now!
X-ALT-DESC;FMTTYPE=text/html:<p><span style="background-color:transparent\; color:rgb(0\, 0\, 0)\; font-family:arial\,sans-serif\; font-size:11pt">MEN&rsquo\;S NIGHT 2025 &ndash\; MADE FOR MORE</span></p>\n\n<p><span style="background-color:transparent\; color:rgb(0\, 0\, 0)\; font-family:arial\,sans-serif\; font-size:11pt">You were MADE FOR MORE.</span></p>\n\n<p><span style="background-color:transparent\; color:rgb(0\, 0\, 0)\; font-family:arial\,sans-serif\; font-size:11pt">Join us on Monday\, April 7\, at 6:00 PM for an unforgettable Men&rsquo\;s Night at Cross Mountain Church! This isn&rsquo\;t just another event&mdash\;it&rsquo\;s a call to step into the life God created you for.</span></p>\n\n<p><span style="background-color:transparent\; color:rgb(0\, 0\, 0)\; font-family:arial\,sans-serif\; font-size:11pt">WHAT TO EXPECT:</span></p>\n\n<p><span style="background-color:transparent\; color:rgb(0\, 0\, 0)\; font-family:arial\,sans-serif\; font-size:11pt">Powerful Teaching &ndash\; Guest speaker Manny Arango will challenge and inspire you to live with purpose.</span></p>\n\n<p><span style="background-color:transparent\; color:rgb(0\, 0\, 0)\; font-family:arial\,sans-serif\; font-size:11pt">Incredible Worship &ndash\; Led by Clinton Allen and the CMC Worship Team to stir your spirit.</span></p>\n\n<p><span style="background-color:transparent\; color:rgb(0\, 0\, 0)\; font-family:arial\,sans-serif\; font-size:11pt">Food Trucks &ndash\; Enjoy a great meal included with your ticket.</span></p>\n\n<p><span style="background-color:transparent\; color:rgb(0\, 0\, 0)\; font-family:arial\,sans-serif\; font-size:11pt">Axe Throwing &amp\; Games &ndash\; Because sometimes\, you just need to throw sharp objects with the guys.</span></p>\n\n<p><span style="background-color:transparent\; color:rgb(0\, 0\, 0)\; font-family:arial\,sans-serif\; font-size:11pt">Brotherhood &amp\; Fellowship &ndash\; A night to connect\, be encouraged\, and step into all that God has for you.</span></p>\n\n<p><span style="background-color:transparent\; color:rgb(0\, 0\, 0)\; font-family:arial\,sans-serif\; font-size:11pt">COST: $30 per person (includes food).</span></p>\n\n<p><span style="background-color:transparent\; color:rgb(0\, 0\, 0)\; font-family:arial\,sans-serif\; font-size:11pt">Don&rsquo\;t settle for less than God&rsquo\;s best&mdash\;you were MADE FOR MORE. Register now!</span></p>\n\n<div>&nbsp\;</div>\n
LOCATION:24891 Boerne Stage Rd\, San Antonio TX 78255
UID:e.187.29260
SEQUENCE:3
DTSTAMP:20260419T143339Z
URL:https://business.boerne.org/events/details/men-s-night-with-pastor-manny-arango-29260
END:VEVENT

END:VCALENDAR
