BEGIN:VCALENDAR
VERSION:2.0
PRODID:-//ChamberMaster//Event Calendar 2.0//EN
METHOD:PUBLISH
X-PUBLISHED-TTL:P3D
REFRESH-INTERVAL:P3D
CALSCALE:GREGORIAN
BEGIN:VEVENT
DTSTART:20170512T160000Z
DTEND:20170512T173000Z
X-MICROSOFT-CDO-ALLDAYEVENT:FALSE
SUMMARY:Member Orientation sponsored Water Tree Boerne
DESCRIPTION:Come join us for Member Orientation sponsored by Water Tree Boerne (link)\n\nThis event are for those who are new members\, new employees or longtime members who want to get more involved  or get more information about the Chamber benefits and programs. Be sure to bring business cards.
X-ALT-DESC;FMTTYPE=text/html:Come join us for Member Orientation sponsored by Water Tree Boerne (<a href="http://watertreeboerne@gmail.com">link</a>)<br />\nThis event are for those who are new members\, new employees or longtime members who want to get more involved&nbsp\; or get more information&nbsp\;about the Chamber benefits and programs. Be sure to bring business cards.
LOCATION:Greater Boerne Chamber of Commerce 121 South Main Boerne\, TX 78006
UID:e.187.11455
SEQUENCE:3
DTSTAMP:20260423T040635Z
URL:https://business.boerne.org/events/details/member-orientation-sponsored-water-tree-boerne-11455
END:VEVENT

END:VCALENDAR
