BEGIN:VCALENDAR
VERSION:2.0
PRODID:-//ChamberMaster//Event Calendar 2.0//EN
METHOD:PUBLISH
X-PUBLISHED-TTL:P3D
REFRESH-INTERVAL:P3D
CALSCALE:GREGORIAN
BEGIN:VEVENT
DTSTART:20170929T163000Z
DTEND:20170929T183000Z
X-MICROSOFT-CDO-ALLDAYEVENT:FALSE
SUMMARY:Member Orientation sponsored by Young Living Essential Oils.
DESCRIPTION:Come join us for Member Orientation sponsored by Young Living Essential Oils. (link)
X-ALT-DESC;FMTTYPE=text/html:Come join us for Member Orientation sponsored by Young Living Essential Oils. (link)&nbsp\;
LOCATION:Greater Boerne Chamber of Commerce 121 South Main Boerne\, TX 78006
UID:e.187.11460
SEQUENCE:3
DTSTAMP:20260422T213247Z
URL:https://business.boerne.org/events/details/member-orientation-sponsored-by-young-living-essential-oils-11460
END:VEVENT

END:VCALENDAR
