BEGIN:VCALENDAR
VERSION:2.0
PRODID:-//ChamberMaster//Event Calendar 2.0//EN
METHOD:PUBLISH
X-PUBLISHED-TTL:P3D
REFRESH-INTERVAL:P3D
CALSCALE:GREGORIAN
BEGIN:VEVENT
DTSTART:20181026T160000Z
DTEND:20181026T173000Z
X-MICROSOFT-CDO-ALLDAYEVENT:FALSE
SUMMARY:Member Orientation - Sponsored by Rock Pharmacy
DESCRIPTION:Join us for Member Orientation! A light lunch will be provided by our sponsor\, Rock Pharmacy. Please RSVP for this event by emailing kim@boerne.org.\n\n\n\nMember Orientation is for our newest members\, new employees of established members\, or veteran members who would like a refresher. Attendees will get detailed information on the Boerne Chamber and the benefits of membership.
X-ALT-DESC;FMTTYPE=text/html:Join us for Member Orientation! A light lunch will be provided by our sponsor\, <a href="https://business.boerne.org/list/member/rock-pharmacy-l-l-c-6359">Rock Pharmacy</a>. Please RSVP for this event by emailing <a href="mailto:kim@boerne.org">kim@boerne.org</a>.<br />\n<br />\nMember Orientation is for our newest members\, new employees of established members\, or veteran members who would like a refresher. Attendees will get detailed information on the Boerne Chamber and the benefits of membership.
LOCATION:Greater Boerne Chamber 121 South Main St. Boerne\, TX 78006
UID:e.187.13946
SEQUENCE:3
DTSTAMP:20260420T013423Z
URL:https://business.boerne.org/events/details/member-orientation-sponsored-by-rock-pharmacy-13946
END:VEVENT

END:VCALENDAR
