BEGIN:VCALENDAR
VERSION:2.0
PRODID:-//ChamberMaster//Event Calendar 2.0//EN
METHOD:PUBLISH
X-PUBLISHED-TTL:P3D
REFRESH-INTERVAL:P3D
CALSCALE:GREGORIAN
BEGIN:VEVENT
DTSTART:20171117T173000Z
DTEND:20171117T190000Z
X-MICROSOFT-CDO-ALLDAYEVENT:FALSE
SUMMARY:Member Orientation sponsored by River Road Pharmacy
DESCRIPTION:Come join us for Member Orientation sponsored by River Road Pharmacy. (link)\n\nThis event is for  those Members who are new to the Chamber or veteran members who would like to get more involved in the Chamber.  Come learn about all the benefits the Chamber has to offer and all the new connections you can make for your business.
X-ALT-DESC;FMTTYPE=text/html:Come join us for Member Orientation sponsored by River Road Pharmacy. (<a href="/www.facebook.com/River-Road-Pharmacy-Gifts-390173707987036/">link</a>)<br />\nThis event is for&nbsp\; those Members who are new to the Chamber or veteran members who would like to get more involved in the Chamber.&nbsp\; Come learn about all the benefits the Chamber has to offer and all the new connections you can make for your business.
LOCATION:Greater Boerne Chamber of Commerce 121 South Main Street Boerne\, TX 78006
UID:e.187.12003
SEQUENCE:3
DTSTAMP:20260422T184333Z
URL:https://business.boerne.org/events/details/member-orientation-sponsored-by-river-road-pharmacy-12003
END:VEVENT

END:VCALENDAR
