BEGIN:VCALENDAR
VERSION:2.0
PRODID:-//ChamberMaster//Event Calendar 2.0//EN
METHOD:PUBLISH
X-PUBLISHED-TTL:P3D
REFRESH-INTERVAL:P3D
CALSCALE:GREGORIAN
BEGIN:VEVENT
DTSTART:20170728T163000Z
DTEND:20170728T180000Z
X-MICROSOFT-CDO-ALLDAYEVENT:FALSE
SUMMARY:Member Orientation sponsored by Ranch Radio Group
DESCRIPTION:Member Orientation sponsored by Ranch Radio Group (link)\n\nThis event are for those who are new members\, new employees or longtime members who want to get more involved  or get more information about the Chamber benefits and programs. Be sure to bring business cards.
X-ALT-DESC;FMTTYPE=text/html:Member Orientation sponsored by <strong>Ranch&nbsp\;Radio Group</strong>&nbsp\;(<a href="http://www.ranchradiogroup.com/">link</a>)<br />\nThis event are for those who are new members\, new employees or longtime members who want to get more involved&nbsp\; or get more information&nbsp\;about the Chamber benefits and programs. Be sure to bring business cards.
LOCATION:Greater Boerne Chamber of Commerce 121 South Main Street Boerne\,Tx 78006
UID:e.187.11459
SEQUENCE:3
DTSTAMP:20260423T022820Z
URL:https://business.boerne.org/events/details/member-orientation-sponsored-by-ranch-radio-group-11459
END:VEVENT

END:VCALENDAR
