BEGIN:VCALENDAR
VERSION:2.0
PRODID:-//ChamberMaster//Event Calendar 2.0//EN
METHOD:PUBLISH
X-PUBLISHED-TTL:P3D
REFRESH-INTERVAL:P3D
CALSCALE:GREGORIAN
BEGIN:VEVENT
DTSTART:20180126T173000Z
DTEND:20180126T190000Z
X-MICROSOFT-CDO-ALLDAYEVENT:FALSE
SUMMARY:Member Orientation sponsored by Prime Capital Investment Advisors\, LLC
DESCRIPTION:Come join us for Member Orientation sponsored by Prime Capital Investment Advisors\, LLC. (link) A light lunch is provided by our sponsor.  We ask that you RSVP for this event to marysue@boerne.org.\n\n\n\nThis event is for our newest members or new employees of our established members  to get more detailed information on their Chamber benefits.  For our veteran members they will receive information on ways to get better connected with the Chamber and the Community.
X-ALT-DESC;FMTTYPE=text/html:Come join us for Member Orientation sponsored by Prime Capital Investment Advisors\, LLC.&nbsp\;(<a href="https://primecap-ia.com/">link</a>) A light lunch is provided by our sponsor.&nbsp\; We ask that you RSVP for this event to <a href="http://marysue@boerne.org.">marysue@boerne.org.</a><br />\n<br />\nThis event is for our newest members or new employees of our established members &nbsp\;to get more detailed information on their Chamber benefits.&nbsp\; For our veteran members&nbsp\;they will receive information on ways to get better connected with the Chamber and the Community.&nbsp\;<br />\n&nbsp\;
LOCATION:Greater Boerne Chamber of Commerce 121 South Main Boerne\, TX 78006
UID:e.187.11726
SEQUENCE:3
DTSTAMP:20260422T171817Z
URL:https://business.boerne.org/events/details/member-orientation-sponsored-by-prime-capital-investment-advisors-llc-11726
END:VEVENT

END:VCALENDAR
