BEGIN:VCALENDAR
VERSION:2.0
PRODID:-//ChamberMaster//Event Calendar 2.0//EN
METHOD:PUBLISH
X-PUBLISHED-TTL:P3D
REFRESH-INTERVAL:P3D
CALSCALE:GREGORIAN
BEGIN:VEVENT
DTSTART:20180831T160000Z
DTEND:20180831T174500Z
X-MICROSOFT-CDO-ALLDAYEVENT:FALSE
SUMMARY:Member Orientation sponsored by Legal Shield Business Solutions Specialist - Leticia Farley
DESCRIPTION:Come join us for Member Orientation sponsored by Legal Shield Business Solutions Specialist - Leticia Farley  \n\n\n\n A light lunch is provided by our sponsor.  We ask that you RSVP for this event to kim@boerne.org\n\n\n\nThis event is for our newest members or new employees of our established members  to get more detailed information on their Chamber benefits.  For our veteran members they will receive information on ways to get better connected with the Chamber and the Community.
X-ALT-DESC;FMTTYPE=text/html:Come join us for Member Orientation&nbsp\;sponsored by Legal Shield Business Solutions Specialist - Leticia Farley&nbsp\;&nbsp\;<br />\n<br />\n&nbsp\;A light lunch is provided by our sponsor.&nbsp\; We ask that you RSVP for this event to&nbsp\;kim@boerne.org<br />\n<br />\nThis event is for our newest members or new employees of our established members &nbsp\;to get more detailed information on their Chamber benefits.&nbsp\; For our veteran members&nbsp\;they will receive information on ways to get better connected with the Chamber and the Community.&nbsp\;
LOCATION:Greater Boerne Chamber of Commerce 121 South Main Boerne\, TX 78006
UID:e.187.13973
SEQUENCE:3
DTSTAMP:20260420T043103Z
URL:https://business.boerne.org/events/details/member-orientation-sponsored-by-legal-shield-business-solutions-specialist-leticia-farley-08-31-2018-13973
END:VEVENT

END:VCALENDAR
