BEGIN:VCALENDAR
VERSION:2.0
PRODID:-//ChamberMaster//Event Calendar 2.0//EN
METHOD:PUBLISH
X-PUBLISHED-TTL:P3D
REFRESH-INTERVAL:P3D
CALSCALE:GREGORIAN
BEGIN:VEVENT
DTSTART:20190215T173000Z
DTEND:20190215T190000Z
X-MICROSOFT-CDO-ALLDAYEVENT:FALSE
SUMMARY:Member Orientation Presented by Smoke in the Hills BBQ
DESCRIPTION:Join us for Member Orientation! A light lunch will be provided by our sponsor\, Smoke in the Hills BBQ. Please RSVP for this event by emailing membership@boerne.org.\n\n\n\nMember Orientation is for our newest members\, new employees of established members\, or veteran members who would like a refresher. Attendees will get detailed information on the Boerne Chamber and the benefits of membership.
X-ALT-DESC;FMTTYPE=text/html:Join us for Member Orientation! A light lunch will be provided by our sponsor\, <a href="https://business.boerne.org/list/member/smoke-in-the-hills-bbq-6482">Smoke in the Hills BBQ</a>. Please RSVP for this event by emailing <a href="mailto:membership@boerne.org?subject=Member%20Orientation%3A%20February%2015%2C%202019">membership@boerne.org</a>.<br />\n<br />\nMember Orientation is for our newest members\, new employees of established members\, or veteran members who would like a refresher. Attendees will get detailed information on the Boerne Chamber and the benefits of membership.
LOCATION:Greater Boerne Chamber of Commerce 121 South Main St. Boerne\, TX 78006
UID:e.187.13947
SEQUENCE:3
DTSTAMP:20260419T205633Z
URL:https://business.boerne.org/events/details/member-orientation-presented-by-smoke-in-the-hills-bbq-13947
END:VEVENT

END:VCALENDAR
