BEGIN:VCALENDAR
VERSION:2.0
PRODID:-//ChamberMaster//Event Calendar 2.0//EN
METHOD:PUBLISH
X-PUBLISHED-TTL:P3D
REFRESH-INTERVAL:P3D
CALSCALE:GREGORIAN
BEGIN:VEVENT
DTSTART:20241025T163000Z
DTEND:20241025T180000Z
X-MICROSOFT-CDO-ALLDAYEVENT:FALSE
SUMMARY:Member Orientation - Presented by Rivers Edge Counseling + Wellness
DESCRIPTION:Join us for Member Orientation! A light lunch will be provided by our sponsor\, Rivers Edge Counseling + Wellness!\n\n\n\nPlease RSVP for this event by emailing kylee@boerne.org\n\n\n\nMember Orientation is a welcoming and informative session that ensure all members\, new and established alike\, have a strong foundation of knowledge about the Chamber and are well-equipped to make the most of their membership. It serves and an introductory platform where prospective members can gain a comprehensive understanding of what the chamber offers and hot it can benefit their businesses. For newly joined member\, it provides an in-depth exploration of the Chamber's structure\, programs\, and opportunities for engagement.
X-ALT-DESC;FMTTYPE=text/html:Join us for Member Orientation! A light lunch will be provided by our sponsor\, Rivers Edge Counseling + Wellness!<br />\n<br />\nPlease RSVP for this event by emailing <a href="mailto:kylee@boerne.org?subject=October%20Member%20Orientation%20RSVP">kylee@boerne.org</a><br />\n<br />\nMember Orientation is a welcoming and informative session that ensure all members\, new and established alike\, have a strong foundation of knowledge about the Chamber and are well-equipped to make the most of their membership. It serves and an introductory platform where prospective members can gain a comprehensive understanding of what the chamber offers and hot it can benefit their businesses. For newly joined member\, it provides an in-depth exploration of the Chamber&#39\;s structure\, programs\, and opportunities for engagement.
LOCATION:The Greater Boerne Chamber of Commerce Boardroom 121 S. Main St. Boerne\, TX 78006
UID:e.187.28536
SEQUENCE:3
DTSTAMP:20260419T162812Z
URL:https://business.boerne.org/events/details/member-orientation-presented-by-rivers-edge-counseling-wellness-28536
END:VEVENT

END:VCALENDAR
