BEGIN:VCALENDAR
VERSION:2.0
PRODID:-//ChamberMaster//Event Calendar 2.0//EN
METHOD:PUBLISH
X-PUBLISHED-TTL:P3D
REFRESH-INTERVAL:P3D
CALSCALE:GREGORIAN
BEGIN:VEVENT
DTSTART:20250425T163000Z
DTEND:20250425T180000Z
X-MICROSOFT-CDO-ALLDAYEVENT:FALSE
SUMMARY:Member Orientation - Presented by Pampered Chef - Jodi Dillmon
DESCRIPTION:Join us for Member Orientation! A light lunch will be provided by our sponsor\, Pampered Chef - Jodi Dillmon! \n\n\n\nPlease RSVP for this event by emailing kylee@boerne.org\n\n\n\nMember Orientation is a welcoming and informative session that ensure all members\, new and established alike\, have a strong foundation of knowledge about the Chamber and are well-equipped to make the most of their membership. It serves as an introductory platform where prospective members can gain a comprehensive understanding of what the chamber offers and how it can benefit their businesses. For newly joined members\, it provides an in-depth exploration of the Chamber's structure\, programs\, and opportunities for engagement.
X-ALT-DESC;FMTTYPE=text/html:<span style="color:#000000\;">Join us for Member Orientation! A light lunch will be provided by our sponsor\, Pampered Chef - Jodi Dillmon!&nbsp\;<br />\n<br />\nPlease RSVP for this event by emailing </span><a href="mailto:kylee@boerne.org"><span style="color:#000000\;">kylee@boerne.org</span></a><br />\n<br />\n<span style="color:#000000\;"><span style="font-family:helvetica\,sans-serif\;">Member Orientation is a welcoming and informative session that ensure all members\, new and established alike\, have a strong foundation of knowledge about the Chamber and are well-equipped to make the most of their membership. It serves as an introductory platform where prospective members can gain a comprehensive understanding of what the chamber offers and how it can benefit their businesses. For newly joined members\, it provides an in-depth exploration of the Chamber&#39\;s structure\, programs\, and opportunities for engagement.</span></span>
LOCATION:The Greater Boerne Chamber of Commerce Boardroom 121 S. Main St. Boerne\, TX 78006
UID:e.187.28970
SEQUENCE:3
DTSTAMP:20260419T143513Z
URL:https://business.boerne.org/events/details/member-orientation-presented-by-pampered-chef-jodi-dillmon-28970
END:VEVENT

END:VCALENDAR
