BEGIN:VCALENDAR
VERSION:2.0
PRODID:-//ChamberMaster//Event Calendar 2.0//EN
METHOD:PUBLISH
X-PUBLISHED-TTL:P3D
REFRESH-INTERVAL:P3D
CALSCALE:GREGORIAN
BEGIN:VEVENT
DTSTART:20190830T163000Z
DTEND:20190830T180000Z
X-MICROSOFT-CDO-ALLDAYEVENT:FALSE
SUMMARY:Member Orientation Presented by Jason Madero with New York Life
DESCRIPTION:Join us for Member Orientation! A light lunch will be provided by our sponsor\, Jason Madero with New York Life.\n\n\n\nPlease RSVP for this event by emailing membership@boerne.org.\n\n\n\nMember Orientation is for our newest members\, new employees of established members\, or veteran members who would like a refresher. Attendees will get detailed information on the Boerne Chamber and the benefits of membership.
X-ALT-DESC;FMTTYPE=text/html:Join us for Member Orientation! A light lunch will be provided by our sponsor\, <a href="https://business.boerne.org/list/member/new-york-life-jason-madero-10216">Jason Madero with New York Life</a>.<br />\n<br />\nPlease RSVP for this event by emailing <a href="mailto:membership@boerne.org">membership@boerne.org</a>.<br />\n<br />\nMember Orientation is for our newest members\, new employees of established members\, or veteran members who would like a refresher. Attendees will get detailed information on the Boerne Chamber and the benefits of membership.
LOCATION:Boerne Chamber of Commerce Boardroom 121 S. Main St. Boerne\, TX 78006
UID:e.187.16740
SEQUENCE:3
DTSTAMP:20260419T161229Z
URL:https://business.boerne.org/events/details/member-orientation-presented-by-jason-madero-with-new-york-life-16740
END:VEVENT

END:VCALENDAR
