BEGIN:VCALENDAR
VERSION:2.0
PRODID:-//ChamberMaster//Event Calendar 2.0//EN
METHOD:PUBLISH
X-PUBLISHED-TTL:P3D
REFRESH-INTERVAL:P3D
CALSCALE:GREGORIAN
BEGIN:VEVENT
DTSTART:20230110T150000Z
DTEND:20230110T163000Z
X-MICROSOFT-CDO-ALLDAYEVENT:FALSE
SUMMARY:Meet & Greet for The Town and Country Nursing & Rehabilitation Director of Nursing
DESCRIPTION:Town and Country Nursing and Rehabilitation Center invites you join them on Tuesday\, January 10th between 9-10:30am for a Meet & Greet for their new Director of Nursing! Come enjoy a FREE cup of coffee from Black Rifle Coffee - Boerne\, Texas on Town and County. To RSVP or for more information\, please call Hilda at 361-827-6677.
X-ALT-DESC;FMTTYPE=text/html:<span style="font-family: &quot\;Segoe UI Historic&quot\;\, &quot\;Segoe UI&quot\;\, Helvetica\, Arial\, sans-serif\; color: rgb(5\, 5\, 5)\; font-size: 15px\; white-space: pre-wrap\; background-color: rgb(255\, 255\, 255)\; animation-name: none !important\; transition-property: none !important\;"><a class="x1i10hfl xjbqb8w x6umtig x1b1mbwd xaqea5y xav7gou x9f619 x1ypdohk xt0psk2 xe8uvvx xdj266r x11i5rnm xat24cr x1mh8g0r xexx8yu x4uap5 x18d9i69 xkhd6sd x16tdsg8 x1hl2dhg xggy1nq x1a2a7pz xt0b8zv x1qq9wsj xo1l8bm" href="https://www.facebook.com/townandcountrynrc?__cft__[0]=AZXf-qmINkaae2o8Nk0sassvJVTKPe4K3SIAQaH9jDSUxYyqVh7cSdUnJQtieptHfEGfzH_zkKqNQDIWBprA1KlrbgCbZFdJrPsWCKLawBhjSYK4_tH4u8FY47a3PBRYf-nG9A5Yx6x0LXv13olwzxP6uJ-Ako09ur8FlddGUTXcUg&amp\;__tn__=-]K-R" role="link" style="cursor: pointer\; text-decoration-line: none\; margin: 0px\; text-align: inherit\; padding: 0px\; outline: none\; border-width: 0px\; border-style: initial\; border-color: initial\; -webkit-tap-highlight-color: transparent\; box-sizing: border-box\; list-style: none\; touch-action: manipulation\; background-color: transparent\; display: inline\; font-family: inherit\; animation-name: none !important\; transition-property: none !important\;" tabindex="0"><span class="xt0psk2" style="display: inline\; animation-name: none !important\; transition-property: none !important\; font-family: inherit\;">Town and Country Nursing and Rehabilitation Center</span></a></span><span style="color: rgb(5\, 5\, 5)\; font-family: &quot\;Segoe UI Historic&quot\;\, &quot\;Segoe UI&quot\;\, Helvetica\, Arial\, sans-serif\; font-size: 15px\; white-space: pre-wrap\; background-color: rgb(255\, 255\, 255)\;"> invites you join them on Tuesday\, January 10th between 9-10:30am for a Meet &amp\; Greet for their new Director of Nursing! Come enjoy a FREE cup of coffee from </span><span style="font-family: &quot\;Segoe UI Historic&quot\;\, &quot\;Segoe UI&quot\;\, Helvetica\, Arial\, sans-serif\; color: rgb(5\, 5\, 5)\; font-size: 15px\; white-space: pre-wrap\; background-color: rgb(255\, 255\, 255)\; animation-name: none !important\; transition-property: none !important\;"><a class="x1i10hfl xjbqb8w x6umtig x1b1mbwd xaqea5y xav7gou x9f619 x1ypdohk xt0psk2 xe8uvvx xdj266r x11i5rnm xat24cr x1mh8g0r xexx8yu x4uap5 x18d9i69 xkhd6sd x16tdsg8 x1hl2dhg xggy1nq x1a2a7pz xt0b8zv x1qq9wsj xo1l8bm" href="https://www.facebook.com/blackrifleboerne/?__cft__[0]=AZXf-qmINkaae2o8Nk0sassvJVTKPe4K3SIAQaH9jDSUxYyqVh7cSdUnJQtieptHfEGfzH_zkKqNQDIWBprA1KlrbgCbZFdJrPsWCKLawBhjSYK4_tH4u8FY47a3PBRYf-nG9A5Yx6x0LXv13olwzxP6uJ-Ako09ur8FlddGUTXcUg&amp\;__tn__=kK-R" role="link" style="cursor: pointer\; text-decoration-line: none\; margin: 0px\; text-align: inherit\; padding: 0px\; outline: none\; border-width: 0px\; border-style: initial\; border-color: initial\; -webkit-tap-highlight-color: transparent\; box-sizing: border-box\; list-style: none\; touch-action: manipulation\; background-color: transparent\; display: inline\; font-family: inherit\; animation-name: none !important\; transition-property: none !important\;" tabindex="0"><span class="xt0psk2" style="display: inline\; animation-name: none !important\; transition-property: none !important\; font-family: inherit\;">Black Rifle Coffee - Boerne\, Texas</span></a></span><span style="color: rgb(5\, 5\, 5)\; font-family: &quot\;Segoe UI Historic&quot\;\, &quot\;Segoe UI&quot\;\, Helvetica\, Arial\, sans-serif\; font-size: 15px\; white-space: pre-wrap\; background-color: rgb(255\, 255\, 255)\;"> on Town and County. To RSVP or for more information\, please call Hilda at 361-827-6677.</span>
LOCATION:Black Rifle Coffee Company 101 S. Main St. Suite A Boerne\, TX 78006
UID:e.187.20734
SEQUENCE:3
DTSTAMP:20260423T071938Z
URL:https://business.boerne.org/events/details/meet-greet-for-the-town-and-country-nursing-rehabilitation-director-of-nursing-20734
END:VEVENT

END:VCALENDAR
