BEGIN:VCALENDAR
VERSION:2.0
PRODID:-//ChamberMaster//Event Calendar 2.0//EN
METHOD:PUBLISH
X-PUBLISHED-TTL:P3D
REFRESH-INTERVAL:P3D
CALSCALE:GREGORIAN
BEGIN:VEVENT
DTSTART:20190627T233000Z
DTEND:20190628T010000Z
X-MICROSOFT-CDO-ALLDAYEVENT:FALSE
SUMMARY:Mayor Town Hall
DESCRIPTION:Join Boerne's Mayor\, Tim Handren for his next Mayor Town Hall! Mayor Tim Handren will review items from the last town hall\, discuss several important topics regarding progress in Boerne\, and he'll be taking any questions from those in attendance.
X-ALT-DESC;FMTTYPE=text/html:Join Boerne&#39\;s Mayor\, Tim Handren for his next Mayor Town Hall! Mayor Tim Handren will review items from the last town hall\, discuss several important topics regarding progress in Boerne\, and he&#39\;ll be taking any questions from those in attendance.
LOCATION:Ye Kendall Inn 128 W. Blanco Rd. Boerne\, TX 78006
UID:e.187.16417
SEQUENCE:3
DTSTAMP:20260419T143036Z
URL:https://business.boerne.org/events/details/mayor-town-hall-16417
END:VEVENT

END:VCALENDAR
