BEGIN:VCALENDAR
VERSION:2.0
PRODID:-//ChamberMaster//Event Calendar 2.0//EN
METHOD:PUBLISH
X-PUBLISHED-TTL:P3D
REFRESH-INTERVAL:P3D
CALSCALE:GREGORIAN
BEGIN:VEVENT
DTSTART:20170208T173000Z
DTEND:20170208T190000Z
X-MICROSOFT-CDO-ALLDAYEVENT:FALSE
SUMMARY:Lunch Rolette
DESCRIPTION:Lunch Roulette\n\nLunch Roulette is a networking tool that randomly pairs you for lunch. Awesome right?  Lunch Roulette is a way to take breaks while making connections with other people outside your typical social/business circle.  It is an opportunity to start a new conversation and where those conversations lead can be anywhere. All we are doing is facilitating the interaction.\n\n\n\nTo keep it as simple as possible all lunches will be on the 2nd Wednesday of each month from noon-1:30pm.\n\n\n\nOnce you sign up and we have an opening to match you with you will receive an email with their name and email address.  Ta-da! Your lunch date is set!\n\nAre you ready to get started?  Contact Jennifer Hudson\, Director of Communications at Jennifer@boerne.org or call the chamber at 830.249.8000.
X-ALT-DESC;FMTTYPE=text/html:Lunch Roulette<br />\nLunch Roulette is a networking tool that randomly pairs you for lunch. Awesome right?&nbsp\; Lunch Roulette is a way to take breaks while making connections with other people outside your typical social/business circle.&nbsp\; It is an opportunity to start a new conversation and where those conversations lead can be anywhere. All we are doing is facilitating the interaction.<br />\n<br />\nTo keep it as simple as possible all lunches will be on the 2nd Wednesday of each month from noon-1:30pm.<br />\n<br />\nOnce you sign up and we have an opening to match you with you will receive an email with their name and email address.&nbsp\; Ta-da! Your lunch date is set!<br />\nAre you ready to get started?&nbsp\; Contact Jennifer Hudson\, Director of Communications at Jennifer@boerne.org or call the chamber at 830.249.8000.
LOCATION:Hungry Horse Restaurant 109 S. Saunders\, Boerne\, TX
UID:e.187.11466
SEQUENCE:3
DTSTAMP:20260423T084144Z
URL:https://business.boerne.org/events/details/lunch-rolette-02-08-2017-11466
END:VEVENT

END:VCALENDAR
