BEGIN:VCALENDAR
VERSION:2.0
PRODID:-//ChamberMaster//Event Calendar 2.0//EN
METHOD:PUBLISH
X-PUBLISHED-TTL:P3D
REFRESH-INTERVAL:P3D
CALSCALE:GREGORIAN
BEGIN:VEVENT
DTSTART:20181106T173000Z
DTEND:20181106T190000Z
X-MICROSOFT-CDO-ALLDAYEVENT:FALSE
SUMMARY:Lunch & Learn - Reducing Healthcare Costs Through Creative Models
DESCRIPTION:Join us for "Reducing Healthcare Costs Through Creative Models\," the first in a series of healthcare alternatives for your business. This lunch and learn is sponsored by University Health System and Entrust. Enjoy an informative presentation and lunch catered by Peggy's on the Green.
X-ALT-DESC;FMTTYPE=text/html:Join us for &quot\;Reducing Healthcare Costs Through Creative Models\,&quot\; the first in a series of healthcare alternatives for your business. This lunch and learn is sponsored by <a href="https://business.boerne.org/list/member/university-health-system-10198">University Health System</a> and Entrust. Enjoy an informative presentation and lunch catered by <a href="https://business.boerne.org/list/member/peggy-s-on-the-green-10253">Peggy&#39\;s on the Green</a>.
LOCATION:Ye Kendall Inn Hotel & Conference Center 128 W. Blanco Rd. Boerne\, TX 78006
UID:e.187.15115
SEQUENCE:3
DTSTAMP:20260419T235801Z
URL:https://business.boerne.org/events/details/lunch-learn-reducing-healthcare-costs-through-creative-models-15115
END:VEVENT

END:VCALENDAR
