BEGIN:VCALENDAR
VERSION:2.0
PRODID:-//ChamberMaster//Event Calendar 2.0//EN
METHOD:PUBLISH
X-PUBLISHED-TTL:P3D
REFRESH-INTERVAL:P3D
CALSCALE:GREGORIAN
BEGIN:VEVENT
DTSTART:20250623T000000Z
DTEND:20250623T020000Z
X-MICROSOFT-CDO-ALLDAYEVENT:FALSE
SUMMARY:Luau Night at Tapatio Springs
DESCRIPTION:Escape to paradise at Tapatio Springs Luau Night! Mahalo! Join them for an authentic Hawaiian experience that includes a Lei Greeting\, Welcome cocktail\, Traditional Hawaiian food & Fire dancers under the stars! \n\nSunday\, June 22nd - 7:00pm to 9:00pm\n\n\n	Doors open at 6:30\n	Dinner is 7:00\n	Show starts at 7:30\n	Meet & Greet 8:30 to 9:00\n	$60 Adult Admission\n	$20 Kids 12 & under\n	BOOK HERE: https://www.outhousetickets.com/events/tapatio-springs-luau-night
X-ALT-DESC;FMTTYPE=text/html:<div style="color:black\;"><strong>Escape to paradise at Tapatio Springs Luau Night!</strong><span style="font-weight:revert\;">&nbsp\;Mahalo! Join them for an authentic Hawaiian experience that includes a </span>Lei Greeting\, Welcome cocktail\, Traditional Hawaiian food &amp\; Fire dancers under the stars!&nbsp\;</div>\n\n<div style="color:black\;"><strong><em>Sunday\, June 22nd - 7:00pm to 9:00pm</em></strong></div>\n\n<ul style="list-style-type:&quot\;- &quot\;\;">\n	<li style="color:black\;"><em>Doors open at 6:30</em></li>\n	<li style="color:black\;"><em>Dinner is 7:00</em></li>\n	<li style="color:black\;"><em>Show starts at 7:30</em></li>\n	<li style="color:black\;"><em>Meet &amp\; Greet 8:30 to 9:00</em></li>\n	<li style="color:black\;text-indent:revert\;line-height:revert\;white-space:revert\;margin:revert\;list-style-position:revert\;">$60 Adult Admission</li>\n	<li style="color:black\;text-indent:revert\;line-height:revert\;white-space:revert\;margin:revert\;list-style-position:revert\;">$20 Kids 12 &amp\; under</li>\n	<li style="color:black\;text-indent:revert\;line-height:revert\;white-space:revert\;margin:revert\;list-style-position:revert\;">BOOK HERE:&nbsp\;<strong><a href="https://nam10.safelinks.protection.outlook.com/?url=https%3A%2F%2Fwww.outhousetickets.com%2Fevents%2Ftapatio-springs-luau-night&amp\;data=05%7C02%7Cmelissa%40boerne.org%7C480463b6d5414973b85c08dda856d287%7C8d825765118643cc86dbca64defef9a2%7C0%7C0%7C638851813082858811%7CUnknown%7CTWFpbGZsb3d8eyJFbXB0eU1hcGkiOnRydWUsIlYiOiIwLjAuMDAwMCIsIlAiOiJXaW4zMiIsIkFOIjoiTWFpbCIsIldUIjoyfQ%3D%3D%7C0%7C%7C%7C&amp\;sdata=uSr5JtTm1P7wi5M3J8bKgWvvwKjkk01Mpvn9sdN3zNI%3D&amp\;reserved=0">https://www.outhousetickets.com/events/tapatio-springs-luau-night</a></strong></li>\n</ul>\n
LOCATION:Tapatio Springs Hill Country Resort 1 Resort Way Boerne\, TX 78006
UID:e.187.30617
SEQUENCE:3
DTSTAMP:20260422T195253Z
URL:https://business.boerne.org/events/details/luau-night-at-tapatio-springs-30617
END:VEVENT

END:VCALENDAR
