BEGIN:VCALENDAR
VERSION:2.0
PRODID:-//ChamberMaster//Event Calendar 2.0//EN
METHOD:PUBLISH
X-PUBLISHED-TTL:P3D
REFRESH-INTERVAL:P3D
CALSCALE:GREGORIAN
BEGIN:VEVENT
DTSTART:20250622T000000Z
DTEND:20250622T030000Z
X-MICROSOFT-CDO-ALLDAYEVENT:FALSE
SUMMARY:Longhorn Lounge Free Concert
DESCRIPTION:The Longhorn Lounge Wine and Tapas Bar (located inside America Reclaimed in Comfort) is hosting a free concert this Saturday\, June 21st! Join them as Jay Boy Adams & The Friends Band performs LIVE!\n\n\n\nReservations are recommended but not required. You can reserve a table by calling (830) 353-2662.
X-ALT-DESC;FMTTYPE=text/html:<span style="color:#000000\;">The Longhorn Lounge Wine and Tapas Bar (located inside America Reclaimed in Comfort) is hosting a free concert this Saturday\, June 21st! Join them as Jay Boy Adams &amp\; The Friends Band performs LIVE!<br />\n<br />\nReservations are recommended but not required. You can reserve a table by calling (830) 353-2662.</span>
LOCATION:America Reclaimed 716 Front St Comfort\, TX 78013
UID:e.187.31025
SEQUENCE:3
DTSTAMP:20260422T195503Z
URL:https://business.boerne.org/events/details/longhorn-lounge-free-concert-31025
END:VEVENT

END:VCALENDAR
