BEGIN:VCALENDAR
VERSION:2.0
PRODID:-//ChamberMaster//Event Calendar 2.0//EN
METHOD:PUBLISH
X-PUBLISHED-TTL:P3D
REFRESH-INTERVAL:P3D
CALSCALE:GREGORIAN
BEGIN:VEVENT
DTSTART:20240908T010000Z
DTEND:20240908T033000Z
X-MICROSOFT-CDO-ALLDAYEVENT:FALSE
SUMMARY:London Suite by Neil Simon
DESCRIPTION:Tickets can only be purchased on our website: https://bit.ly/3WupER2 or by calling our box office at (830) 249 9166. Directed by Martin Vidal\, America's top comic playwright delivers a series of hilarious comedies set in a luxury London hotel. With colorful characters ranging from a drunken Welsh writer to a New York couple caught in a mix-up with Kevin Costner\, this ensemble show is packed with laughs and heart.
X-ALT-DESC;FMTTYPE=text/html:Tickets can only be purchased on our website: https://bit.ly/3WupER2 or by calling our box office at (830) 249 9166. Directed by Martin Vidal\, America&#39\;s top comic playwright delivers a series of hilarious comedies set in a luxury London hotel. With colorful characters ranging from a drunken Welsh writer to a New York couple caught in a mix-up with Kevin Costner\, this ensemble show is packed with laughs and heart.
LOCATION:Boerne Community Theatre
UID:e.187.28594
SEQUENCE:3
DTSTAMP:20260419T193302Z
URL:https://business.boerne.org/events/details/london-suite-by-neil-simon-09-07-2024-28594
END:VEVENT

END:VCALENDAR
