BEGIN:VCALENDAR
VERSION:2.0
PRODID:-//ChamberMaster//Event Calendar 2.0//EN
METHOD:PUBLISH
X-PUBLISHED-TTL:P3D
REFRESH-INTERVAL:P3D
CALSCALE:GREGORIAN
BEGIN:VEVENT
DTSTART:20180726T163000Z
DTEND:20180726T180000Z
X-MICROSOFT-CDO-ALLDAYEVENT:FALSE
SUMMARY:LinkedIn: The Most Important Social Media Tool - Workshop
DESCRIPTION:LinkedIn is a social media platform created to connect professionals.  Learn the top 5 mistakes most people don't even know they are doing.  Learn how to become an "Allstar" and why it's so important.  Acquire techniques for adding new connections and how to get recommendations.  Last but not least\, learn how to use the Blog feature.  Trust me\, you don't want to miss learning how to take your LinkedIn skills to the next level.   \n\n\n\nPresented by Tomas Martinez III\, Owner & Publisher of Luxury Home Magazine
X-ALT-DESC;FMTTYPE=text/html:<br />\n<span style="font-family:arial\,sans-serif\;"><span style="font-size:11.5pt\;">LinkedIn is a social media platform created to connect&nbsp\;professionals. &nbsp\;Learn the top 5 mistakes most people don&rsquo\;t even know they are doing. &nbsp\;Learn how to become an &ldquo\;Allstar&rdquo\; and why it&rsquo\;s so important. &nbsp\;Acquire techniques for adding new connections and how to get recommendations.&nbsp\; Last but not least\, learn how to use the Blog feature. &nbsp\;Trust me\, you don&rsquo\;t want to miss learning how to take your LinkedIn skills to the next level. &nbsp\;&nbsp\;</span></span><br />\n<br />\nPresented by Tomas Martinez III\, Owner &amp\; Publisher of Luxury Home Magazine
LOCATION:Boerne Chamber Boardroom
UID:e.187.13938
SEQUENCE:3
DTSTAMP:20260420T055941Z
URL:https://business.boerne.org/events/details/linkedin-the-most-important-social-media-tool-workshop-13938
END:VEVENT

END:VCALENDAR
