BEGIN:VCALENDAR
VERSION:2.0
PRODID:-//ChamberMaster//Event Calendar 2.0//EN
METHOD:PUBLISH
X-PUBLISHED-TTL:P3D
REFRESH-INTERVAL:P3D
CALSCALE:GREGORIAN
BEGIN:VEVENT
DTSTART:20190416T180000Z
DTEND:20190416T190000Z
X-MICROSOFT-CDO-ALLDAYEVENT:FALSE
SUMMARY:LinkedIn for Realtors
DESCRIPTION:Attention\, Realtors! Don't miss this workshop hosted by the Microsoft Store at La Cantera and Lisa Blake with Open Mortgage.\n\n\n\nEnjoy a free workshop on how to build your brand using LinkedIn with free lunch and complimentary headshots. This workshop will be tailored to Realtors and how you can adapt your current marketing strategies.\n\n\n\nLearn how to connect with other professionals who can refer business straight to you\, utilize LinkedIn Groups\, create unique content to share to your profile\, and learn how to utilize LinkedIn Search to find the connections you are looking for.\n\n\n\nClick here to register: aka.ms/lacanterarealtors
X-ALT-DESC;FMTTYPE=text/html:Attention\, Realtors! Don&#39\;t miss this workshop hosted by the Microsoft Store at La Cantera and Lisa Blake with Open Mortgage.<br />\n<br />\nEnjoy a free workshop on how to build your brand using LinkedIn with free lunch and complimentary headshots. This workshop will be tailored to Realtors and how you can adapt your current marketing strategies.<br />\n<br />\nLearn how to connect with other professionals who can refer business straight to you\, utilize LinkedIn Groups\, create unique content to share to your profile\, and learn how to utilize LinkedIn Search to find the connections you are looking for.<br />\n<br />\nClick here to register:&nbsp\;<a href="http://aka.ms/lacanterarealtors">aka.ms/lacanterarealtors</a>
LOCATION:Microsoft Store at La Cantera 15900 La Cantera Pkwy\, Ste. 6560 San Antonio\, TX 78256
UID:e.187.16346
SEQUENCE:3
DTSTAMP:20260419T160548Z
URL:https://business.boerne.org/events/details/linkedin-for-realtors-16346
END:VEVENT

END:VCALENDAR
