BEGIN:VCALENDAR
VERSION:2.0
PRODID:-//ChamberMaster//Event Calendar 2.0//EN
METHOD:PUBLISH
X-PUBLISHED-TTL:P3D
REFRESH-INTERVAL:P3D
CALSCALE:GREGORIAN
BEGIN:VEVENT
DTSTART;VALUE=DATE:20190505
DTEND;VALUE=DATE:20190506
TRANSP:TRANSPARENT
X-MICROSOFT-CDO-ALLDAYEVENT:TRUE
SUMMARY:Lemonade Day Presented by The GVTC Foundation
DESCRIPTION:Lemonade Day
X-ALT-DESC;FMTTYPE=text/html:Lemonade Day
LOCATION:
UID:e.187.13957
SEQUENCE:3
DTSTAMP:20260419T143346Z
URL:https://business.boerne.org/events/details/lemonade-day-presented-by-the-gvtc-foundation-13957
END:VEVENT

END:VCALENDAR
