BEGIN:VCALENDAR
VERSION:2.0
PRODID:-//ChamberMaster//Event Calendar 2.0//EN
METHOD:PUBLISH
X-PUBLISHED-TTL:P3D
REFRESH-INTERVAL:P3D
CALSCALE:GREGORIAN
BEGIN:VEVENT
DTSTART;VALUE=DATE:20181123
DTEND;VALUE=DATE:20181126
TRANSP:TRANSPARENT
X-MICROSOFT-CDO-ALLDAYEVENT:TRUE
SUMMARY:LED Craft Corner at The Science Mill
DESCRIPTION:Take the whole family to the Science Mill over Thanksgiving weekend for the best and brightest holiday fun! Spend the day checking out 50+ interactive exhibits and a 3D movie while taking advantage of several great holiday shopping opportunities.\n\n\n\nOn Friday and Saturday\, create a special card or gift at the LED Craft Corner ($5 per participant).\n\n\n\nOn Sunday get big discounts at the museum's Science Store--the largest selection of science-related toys and gifts in the Hill Country--when all purchases of $40 or more will be 25% off!
X-ALT-DESC;FMTTYPE=text/html:Take the whole family to the Science Mill over Thanksgiving weekend for the best and brightest holiday fun! Spend the day checking out 50+ interactive exhibits and a 3D movie while taking advantage of several great holiday shopping opportunities.<br />\n<br />\nOn Friday and Saturday\, create a special card or gift at the LED Craft Corner ($5 per participant).<br />\n<br />\nOn Sunday get big discounts at the museum&rsquo\;s Science Store--the largest selection of science-related toys and gifts in the Hill Country--when all purchases of $40 or more will be 25% off!
LOCATION:Science Mill 101 S. Lady Bird Lane Johnson City\, TX 78636
UID:e.187.15307
SEQUENCE:3
DTSTAMP:20260419T235027Z
URL:https://business.boerne.org/events/details/led-craft-corner-at-the-science-mill-15307
END:VEVENT

END:VCALENDAR
