BEGIN:VCALENDAR
VERSION:2.0
PRODID:-//ChamberMaster//Event Calendar 2.0//EN
METHOD:PUBLISH
X-PUBLISHED-TTL:P3D
REFRESH-INTERVAL:P3D
CALSCALE:GREGORIAN
BEGIN:VEVENT
DTSTART:20190213T120000Z
DTEND:20190213T230000Z
X-MICROSOFT-CDO-ALLDAYEVENT:FALSE
SUMMARY:Leadership Boerne - State Day
DESCRIPTION:SESSION 6\, FEBRUARY 13\, 2019   STATE LEGISLATIVE DAY\n\nSTATE CAPITOL\, AUSTIN\, TEXAS\n\nFACILITATORS: MARY BROOK\, SHANNON GLEASON & LORELEI HELMKE\n\n(EDUCATE & ADVOCATE DAY)
X-ALT-DESC;FMTTYPE=text/html:SESSION 6\, FEBRUARY 13\, 2019 &ndash\; STATE LEGISLATIVE DAY<br />\nSTATE CAPITOL\, AUSTIN\, TEXAS<br />\nFACILITATORS: MARY BROOK\, SHANNON GLEASON &amp\; LORELEI HELMKE<br />\n(EDUCATE &amp\; ADVOCATE DAY)
LOCATION:STATE CAPITOL\, AUSTIN\, TEXAS
UID:e.187.11096
SEQUENCE:3
DTSTAMP:20260419T191209Z
URL:https://business.boerne.org/events/details/leadership-boerne-state-day-11096
END:VEVENT

END:VCALENDAR
