BEGIN:VCALENDAR
VERSION:2.0
PRODID:-//ChamberMaster//Event Calendar 2.0//EN
METHOD:PUBLISH
X-PUBLISHED-TTL:P3D
REFRESH-INTERVAL:P3D
CALSCALE:GREGORIAN
BEGIN:VEVENT
DTSTART:20170607T043000Z
DTEND:20170606T173000Z
X-MICROSOFT-CDO-ALLDAYEVENT:FALSE
SUMMARY:Leadership Boerne Session Planning
DESCRIPTION:Leadership Boerne Session Planning
X-ALT-DESC;FMTTYPE=text/html:Leadership Boerne Session Planning
LOCATION:Chamber Boardroom
UID:e.187.11663
SEQUENCE:3
DTSTAMP:20260423T022542Z
URL:https://business.boerne.org/events/details/leadership-boerne-session-planning-11663
END:VEVENT

END:VCALENDAR
