BEGIN:VCALENDAR
VERSION:2.0
PRODID:-//ChamberMaster//Event Calendar 2.0//EN
METHOD:PUBLISH
X-PUBLISHED-TTL:P3D
REFRESH-INTERVAL:P3D
CALSCALE:GREGORIAN
BEGIN:VEVENT
DTSTART;VALUE=DATE:20180321
DTEND;VALUE=DATE:20180322
TRANSP:TRANSPARENT
X-MICROSOFT-CDO-ALLDAYEVENT:TRUE
SUMMARY:Leadership Boerne Program
DESCRIPTION:Leadership Boerne Program for more information contact Mary Sue Hurdt Director of Membership Development or call 830-249-8000 marysue@boerne.org
X-ALT-DESC;FMTTYPE=text/html:Leadership Boerne Program for more information contact Mary Sue Hurdt Director of Membership Development or call 830-249-8000 <a href="mailto:marysue@boerne.org">marysue@boerne.org</a>
LOCATION:TBD
UID:e.187.11085
SEQUENCE:3
DTSTAMP:20260422T120530Z
URL:https://business.boerne.org/events/details/leadership-boerne-program-03-14-2018-11085
END:VEVENT

END:VCALENDAR
