BEGIN:VCALENDAR
VERSION:2.0
PRODID:-//ChamberMaster//Event Calendar 2.0//EN
METHOD:PUBLISH
X-PUBLISHED-TTL:P3D
REFRESH-INTERVAL:P3D
CALSCALE:GREGORIAN
BEGIN:VEVENT
DTSTART;VALUE=DATE:20190116
DTEND;VALUE=DATE:20190117
TRANSP:TRANSPARENT
X-MICROSOFT-CDO-ALLDAYEVENT:TRUE
SUMMARY:Leadership Boerne Program
DESCRIPTION:Leadership Boerne Program for more information contact Kim Blohm at kim@boerne.org.
X-ALT-DESC;FMTTYPE=text/html:Leadership Boerne Program for more information contact Kim Blohm at kim@boerne.org.
LOCATION:TBD
UID:e.187.11095
SEQUENCE:3
DTSTAMP:20260419T204251Z
URL:https://business.boerne.org/events/details/leadership-boerne-program-01-09-2019-11095
END:VEVENT

END:VCALENDAR
