BEGIN:VCALENDAR
VERSION:2.0
PRODID:-//ChamberMaster//Event Calendar 2.0//EN
METHOD:PUBLISH
X-PUBLISHED-TTL:P3D
REFRESH-INTERVAL:P3D
CALSCALE:GREGORIAN
BEGIN:VEVENT
DTSTART:20170613T210000Z
DTEND:20170613T220000Z
X-MICROSOFT-CDO-ALLDAYEVENT:FALSE
SUMMARY:Leadership Boerne Planning Session
DESCRIPTION:Leadership Boerne planning session with Tina Robinson\, Ira Smoot and Richmond Frazier.
X-ALT-DESC;FMTTYPE=text/html:Leadership Boerne planning session with Tina Robinson\, Ira Smoot and Richmond Frazier.
LOCATION:Boerne Chamber conference room 121 S. Main St.\, Boerne\, TX 78006
UID:e.187.11683
SEQUENCE:3
DTSTAMP:20260423T022452Z
URL:https://business.boerne.org/events/details/leadership-boerne-planning-session-11683
END:VEVENT

END:VCALENDAR
