BEGIN:VCALENDAR
VERSION:2.0
PRODID:-//ChamberMaster//Event Calendar 2.0//EN
METHOD:PUBLISH
X-PUBLISHED-TTL:P3D
REFRESH-INTERVAL:P3D
CALSCALE:GREGORIAN
BEGIN:VEVENT
DTSTART:20170830T223000Z
DTEND:20170830T233000Z
X-MICROSOFT-CDO-ALLDAYEVENT:FALSE
SUMMARY:Leadership Boerne Meet and Greet
DESCRIPTION:Leadership Boerne Class of 2018 Meet and Greet a time to meet your fellow classmates and your facilitators for the coming year along with the Leadership Boerne Council. New Class Members will receive their Class Shirts and Book for this year's reading.\n\n\n\n Alumni Class of 2017  will receive their book as well.
X-ALT-DESC;FMTTYPE=text/html:Leadership Boerne Class of 2018 Meet and Greet a time to meet your fellow classmates and your facilitators for the coming year along with the Leadership Boerne Council. New Class Members will receive their Class Shirts and Book for this year&#39\;s reading.<br />\n<br />\n&nbsp\;Alumni Class of 2017 &nbsp\;will receive their book as well.&nbsp\;
LOCATION:Jefferson Bank 371 N Main St Boerne\, TX 78006
UID:e.187.11952
SEQUENCE:3
DTSTAMP:20260422T231522Z
URL:https://business.boerne.org/events/details/leadership-boerne-meet-and-greet-11952
END:VEVENT

END:VCALENDAR
