BEGIN:VCALENDAR
VERSION:2.0
PRODID:-//ChamberMaster//Event Calendar 2.0//EN
METHOD:PUBLISH
X-PUBLISHED-TTL:P3D
REFRESH-INTERVAL:P3D
CALSCALE:GREGORIAN
BEGIN:VEVENT
DTSTART:20190531T160000Z
DTEND:20190531T180000Z
X-MICROSOFT-CDO-ALLDAYEVENT:FALSE
SUMMARY:Leadership Boerne Graduation Luncheon - Presented by The City of Boerne
DESCRIPTION:Join us for our 2019 Leadership Boerne Graduation Luncheon\, presented by the City of Boerne!\n\n\n\nThis event includes a lunch catered by the new Bevy Hotel!
X-ALT-DESC;FMTTYPE=text/html:Join us for our 2019 Leadership Boerne Graduation Luncheon\, presented by the City of Boerne!<br />\n<br />\nThis event includes a lunch catered by the new Bevy Hotel!
LOCATION:The Cana Ballroom 202 W. Kronkosky St. Boerne\, TX 78006
UID:e.187.15321
SEQUENCE:3
DTSTAMP:20260419T143956Z
URL:https://business.boerne.org/events/details/leadership-boerne-graduation-luncheon-presented-by-the-city-of-boerne-15321
END:VEVENT

END:VCALENDAR
