BEGIN:VCALENDAR
VERSION:2.0
PRODID:-//ChamberMaster//Event Calendar 2.0//EN
METHOD:PUBLISH
X-PUBLISHED-TTL:P3D
REFRESH-INTERVAL:P3D
CALSCALE:GREGORIAN
BEGIN:VEVENT
DTSTART:20180523T163000Z
DTEND:20180523T183000Z
X-MICROSOFT-CDO-ALLDAYEVENT:FALSE
SUMMARY:Leadership Boerne Graduation
DESCRIPTION:Come join us for the graduation ceremony for the Leadership Boerne Class of 2018 with a special video presentation from past graduates Steve Mack\, Allison Smoot and Shawn Morris.\n \n\nVideo sponsored by:\n\nGVTC Communications\n\nBroadway Bank\n\nJefferson Bank
X-ALT-DESC;FMTTYPE=text/html:<span style="color: rgb(51\, 51\, 51)\; font-family: sans-serif\, Arial\, Verdana\, &quot\;Trebuchet MS&quot\;\; font-size: 13px\; background-color: rgb(255\, 255\, 255)\;">Come join us for the graduation ceremony for the Leadership Boerne Class of 2018 with a special video presentation from past graduates Steve Mack\, Allison Smoot and Shawn Morris.</span>\n<div>&nbsp\;</div>\n\n<div><span style="color: rgb(51\, 51\, 51)\; font-family: sans-serif\, Arial\, Verdana\, &quot\;Trebuchet MS&quot\;\; font-size: 13px\; background-color: rgb(255\, 255\, 255)\;">Video sponsored by:</span></div>\n\n<div><font color="#333333" face="sans-serif\, Arial\, Verdana\, Trebuchet MS"><span style="font-size: 13px\; background-color: rgb(255\, 255\, 255)\;">GVTC Communications</span></font></div>\n\n<div><font color="#333333" face="sans-serif\, Arial\, Verdana\, Trebuchet MS"><span style="font-size: 13px\; background-color: rgb(255\, 255\, 255)\;">Broadway Bank</span></font></div>\n\n<div><font color="#333333" face="sans-serif\, Arial\, Verdana\, Trebuchet MS"><span style="font-size: 13px\; background-color: rgb(255\, 255\, 255)\;">Jefferson Bank</span></font></div>\n
LOCATION:Menger Springs - The Overlook 1150 Grand Blvd. Boerne
UID:e.187.12049
SEQUENCE:3
DTSTAMP:20260422T090039Z
URL:https://business.boerne.org/events/details/leadership-boerne-graduation-05-23-2018-12049
END:VEVENT

END:VCALENDAR
