BEGIN:VCALENDAR
VERSION:2.0
PRODID:-//ChamberMaster//Event Calendar 2.0//EN
METHOD:PUBLISH
X-PUBLISHED-TTL:P3D
REFRESH-INTERVAL:P3D
CALSCALE:GREGORIAN
BEGIN:VEVENT
DTSTART:20170710T163000Z
DTEND:20170710T170000Z
X-MICROSOFT-CDO-ALLDAYEVENT:FALSE
SUMMARY:Leadership Boerne Council Meeting
DESCRIPTION:Leadership Boerne Council Meeting
X-ALT-DESC;FMTTYPE=text/html:Leadership Boerne Council Meeting
LOCATION:Boerne Boardroom
UID:e.187.11692
SEQUENCE:3
DTSTAMP:20260423T005126Z
URL:https://business.boerne.org/events/details/leadership-boerne-council-meeting-11692
END:VEVENT

END:VCALENDAR
