BEGIN:VCALENDAR
VERSION:2.0
PRODID:-//ChamberMaster//Event Calendar 2.0//EN
METHOD:PUBLISH
X-PUBLISHED-TTL:P3D
REFRESH-INTERVAL:P3D
CALSCALE:GREGORIAN
BEGIN:VEVENT
DTSTART:20180829T220000Z
DTEND:20180830T000000Z
X-MICROSOFT-CDO-ALLDAYEVENT:FALSE
SUMMARY:Leadership Boerne Alumni Mixer
DESCRIPTION:Join us for the on August 29\, 2018 from 5-7pm at Random for our Alumni Social Event. This event is open for LB Alumni and the Class of 2019.\n\n\n \n\nReconnect with classmates\, meet other classes and visit with the newly selected Class of 2019. We will have special giveaways (limited quantities) and exciting updates!\n\n \n\nWe would love to know you are coming-- please RSVP to Kim Blohm at Kim@boerne.org
X-ALT-DESC;FMTTYPE=text/html:<div _mce_style="text-align: left\;" align="left" class="ArticleHeadline" data-gcf-font-size="14pt" style="font-family: Tahoma\, Arial\, sans-serif\; font-size: 14pt\;"><span _mce_style="font-size: 16px\;" style="font-size: 16px\;">Join us for the on&nbsp\;</span><span _mce_style="font-size: 16px\;" style="font-size: 16px\;">August 29\, 2018 from 5-7pm at Random for our Alumni Social Event.<b> <em>This event is open for LB Alumni and the Class of 2019.</em></b></span></div>\n\n<div _mce_style="text-align: left\;" align="left" class="ArticleHeadline" data-gcf-font-size="14pt" style="font-family: Tahoma\, Arial\, sans-serif\; font-size: 14pt\;">\n<div _mce_style="font-size: 12pt\; text-align: left\;" align="left" style="font-size: 12pt\;">&nbsp\;</div>\n\n<div _mce_style="font-size: 12pt\; text-align: left\;" align="left" style="font-size: 12pt\;">Reconnect with classmates\, meet other classes and visit with the newly selected Class of 2019. We will have special giveaways (limited quantities) and exciting updates!</div>\n\n<div _mce_style="font-size: 12pt\; text-align: left\;" align="left" style="font-size: 12pt\;">&nbsp\;</div>\n\n<div _mce_style="font-size: 12pt\; text-align: left\;" align="left" style="font-size: 12pt\;">We would love to know you are coming-- please RSVP to Kim Blohm at&nbsp\;<a _mce_href="mailto:Jennifer@boerne.org" _mce_style="font-weight: bold\; color: rgb(0\, 0\, 255) !important\; text-decoration: underline !important\;" href="mailto:Jennifer@boerne.org" linktype="2" style="font-weight: bold\; color: rgb(0\, 0\, 255) !important\;" target="_blank">Kim@boerne.org</a></div>\n</div>\n
LOCATION:Random
UID:e.187.13927
SEQUENCE:3
DTSTAMP:20260420T042402Z
URL:https://business.boerne.org/events/details/leadership-boerne-alumni-mixer-13927
END:VEVENT

END:VCALENDAR
