BEGIN:VCALENDAR
VERSION:2.0
PRODID:-//ChamberMaster//Event Calendar 2.0//EN
METHOD:PUBLISH
X-PUBLISHED-TTL:P3D
REFRESH-INTERVAL:P3D
CALSCALE:GREGORIAN
BEGIN:VEVENT
DTSTART:20181201T230000Z
DTEND:20181202T010000Z
X-MICROSOFT-CDO-ALLDAYEVENT:FALSE
SUMMARY:Leadership Boerne Alumni Family Weihnachts Parade Party
DESCRIPTION:Leadership Boerne Alumni Weihnachts Parade Party. This event is only open for Leadership Boerne Alumni and the Class of 2019. \n\n\n\nWe would love to know you are coming -- please RSVP by registering today.
X-ALT-DESC;FMTTYPE=text/html:Leadership Boerne Alumni <span style="color: rgb(34\, 34\, 34)\; font-family: Roboto\, arial\, sans-serif\;">Weihnachts Parade Party. This event is only open for Leadership Boerne Alumni and the Class of 2019.&nbsp\;</span><br />\n<br />\nWe would love to know you are coming -- please RSVP by registering today.&nbsp\;
LOCATION:Boerne Chamber of Commerce 121 South Main Street Boerne\, TX 78006
UID:e.187.15303
SEQUENCE:3
DTSTAMP:20260420T002002Z
URL:https://business.boerne.org/events/details/leadership-boerne-alumni-family-weihnachts-parade-party-15303
END:VEVENT

END:VCALENDAR
