BEGIN:VCALENDAR
VERSION:2.0
PRODID:-//ChamberMaster//Event Calendar 2.0//EN
METHOD:PUBLISH
X-PUBLISHED-TTL:P3D
REFRESH-INTERVAL:P3D
CALSCALE:GREGORIAN
BEGIN:VEVENT
DTSTART:20190621T180000Z
DTEND:20190621T190000Z
X-MICROSOFT-CDO-ALLDAYEVENT:FALSE
SUMMARY:Leadership Boerne Alumni Council Meeting
DESCRIPTION:Leadership Boerne Alumni Council Meeting
X-ALT-DESC;FMTTYPE=text/html:Leadership Boerne Alumni Council Meeting
LOCATION:Chamber Conference Room
UID:e.187.15187
SEQUENCE:3
DTSTAMP:20260419T143645Z
URL:https://business.boerne.org/events/details/leadership-boerne-alumni-council-meeting-06-14-2019-15187
END:VEVENT

END:VCALENDAR
