BEGIN:VCALENDAR
VERSION:2.0
PRODID:-//ChamberMaster//Event Calendar 2.0//EN
METHOD:PUBLISH
X-PUBLISHED-TTL:P3D
REFRESH-INTERVAL:P3D
CALSCALE:GREGORIAN
BEGIN:VEVENT
DTSTART:20170224T190000Z
DTEND:20170224T200000Z
X-MICROSOFT-CDO-ALLDAYEVENT:FALSE
SUMMARY:Leadercast Cmte Meetng
DESCRIPTION:Leadercast Committee Meeting
X-ALT-DESC;FMTTYPE=text/html:Leadercast Committee Meeting
LOCATION:Chamber Conference Room
UID:e.187.11587
SEQUENCE:3
DTSTAMP:20260423T084151Z
URL:https://business.boerne.org/events/details/leadercast-cmte-meetng-11587
END:VEVENT

END:VCALENDAR
