BEGIN:VCALENDAR
VERSION:2.0
PRODID:-//ChamberMaster//Event Calendar 2.0//EN
METHOD:PUBLISH
X-PUBLISHED-TTL:P3D
REFRESH-INTERVAL:P3D
CALSCALE:GREGORIAN
BEGIN:VEVENT
DTSTART:20250123T233000Z
DTEND:20250124T023000Z
X-MICROSOFT-CDO-ALLDAYEVENT:FALSE
SUMMARY:Landscape Lighting Guru Open House
DESCRIPTION:Join Landscape Lighting Guru for an open house! Learn more about the services they provide while listening to music from Dragonfly Acoustic Duo and enjoying food from Devine Wine Bar!
X-ALT-DESC;FMTTYPE=text/html:Join Landscape Lighting Guru for an open house! Learn more about the services they provide while listening to music from Dragonfly Acoustic Duo and enjoying food from Devine Wine Bar!&nbsp\;
LOCATION:25191 Hwy 46 Spring Branch\, TX. 78070
UID:e.187.29051
SEQUENCE:3
DTSTAMP:20260423T051935Z
URL:https://business.boerne.org/events/details/landscape-lighting-guru-open-house-29051
END:VEVENT

END:VCALENDAR
