BEGIN:VCALENDAR
VERSION:2.0
PRODID:-//ChamberMaster//Event Calendar 2.0//EN
METHOD:PUBLISH
X-PUBLISHED-TTL:P3D
REFRESH-INTERVAL:P3D
CALSCALE:GREGORIAN
BEGIN:VEVENT
DTSTART:20181116T000000Z
DTEND:20181116T020000Z
X-MICROSOFT-CDO-ALLDAYEVENT:FALSE
SUMMARY:Kendall Masonic Lodge Open House
DESCRIPTION:As part of a wider effort by the Grand Lodge of Texas and Masonic lodges abroad\, Kendall Masonic Lodge #897 is hosting an open house.\n\n\n\nA lot has been said about masonry throughout the ages and the open house is an opportunity for friends and neighbors to meet the men locally working to uphold the values of one of the oldest and most prestigious fraternities in history. All are welcome\, from those interested in petitioning for membership\, to those just curious about the organization and looking to draw their own conclusions.\n\n\n\nAdditionally\, the lodge is still accepting donations for their Christmas care packages for service men and women stationed away from home during the holidays. More info here.
X-ALT-DESC;FMTTYPE=text/html:As part of a wider effort by the Grand Lodge of Texas and Masonic lodges abroad\, Kendall Masonic Lodge #897 is hosting an open house.<br />\n<br />\nA lot has been said about masonry throughout the ages and the open house is an opportunity for friends and neighbors to meet the men locally working to uphold the values of one of the oldest and most prestigious fraternities in history. All are welcome\, from those interested in petitioning for membership\, to those just curious about the organization and looking to draw their own conclusions.<br />\n<br />\nAdditionally\, the lodge is still accepting donations for their Christmas care packages for service men and women stationed away from home during the holidays. <a href="http://https://kendalllodge897.org/2018/10/16/from-boerne-to-the-troops/">More info here.</a>
LOCATION:Kendall Masonic Lodge #897 897 E. Blanco Rd. Boerne\, TX 78006
UID:e.187.15308
SEQUENCE:3
DTSTAMP:20260419T235027Z
URL:https://business.boerne.org/events/details/kendall-masonic-lodge-open-house-15308
END:VEVENT

END:VCALENDAR
